BEGIN:VCALENDAR
VERSION:2.0
PRODID:-//Northway Brewing Co. - ECPv6.15.13//NONSGML v1.0//EN
CALSCALE:GREGORIAN
METHOD:PUBLISH
X-WR-CALNAME:Northway Brewing Co.
X-ORIGINAL-URL:https://northwaybrewingco.com
X-WR-CALDESC:Events for Northway Brewing Co.
REFRESH-INTERVAL;VALUE=DURATION:PT1H
X-Robots-Tag:noindex
X-PUBLISHED-TTL:PT1H
BEGIN:VTIMEZONE
TZID:America/New_York
BEGIN:DAYLIGHT
TZOFFSETFROM:-0500
TZOFFSETTO:-0400
TZNAME:EDT
DTSTART:20250309T070000
END:DAYLIGHT
BEGIN:STANDARD
TZOFFSETFROM:-0400
TZOFFSETTO:-0500
TZNAME:EST
DTSTART:20251102T060000
END:STANDARD
BEGIN:DAYLIGHT
TZOFFSETFROM:-0500
TZOFFSETTO:-0400
TZNAME:EDT
DTSTART:20260308T070000
END:DAYLIGHT
BEGIN:STANDARD
TZOFFSETFROM:-0400
TZOFFSETTO:-0500
TZNAME:EST
DTSTART:20261101T060000
END:STANDARD
BEGIN:DAYLIGHT
TZOFFSETFROM:-0500
TZOFFSETTO:-0400
TZNAME:EDT
DTSTART:20270314T070000
END:DAYLIGHT
BEGIN:STANDARD
TZOFFSETFROM:-0400
TZOFFSETTO:-0500
TZNAME:EST
DTSTART:20271107T060000
END:STANDARD
END:VTIMEZONE
BEGIN:VEVENT
DTSTART;TZID=America/New_York:20260530T180000
DTEND;TZID=America/New_York:20260530T200000
DTSTAMP:20260421T161755
CREATED:20251216T072044Z
LAST-MODIFIED:20260317T030311Z
UID:10000252-1780164000-1780171200@northwaybrewingco.com
SUMMARY:Live Music : Red Wagon
DESCRIPTION:
URL:https://northwaybrewingco.com/event/live-music-red-wagon-2/
CATEGORIES:Cooperstown
END:VEVENT
BEGIN:VEVENT
DTSTART;TZID=America/New_York:20260606T180000
DTEND;TZID=America/New_York:20260606T210000
DTSTAMP:20260421T161755
CREATED:20260306T004700Z
LAST-MODIFIED:20260317T030311Z
UID:10000274-1780768800-1780779600@northwaybrewingco.com
SUMMARY:Live Music : Rickety Fence
DESCRIPTION:
URL:https://northwaybrewingco.com/event/live-music-rickety-fence/
CATEGORIES:Cooperstown
END:VEVENT
BEGIN:VEVENT
DTSTART;TZID=America/New_York:20260613T180000
DTEND;TZID=America/New_York:20260613T210000
DTSTAMP:20260421T161755
CREATED:20260306T004700Z
LAST-MODIFIED:20260317T030312Z
UID:10000275-1781373600-1781384400@northwaybrewingco.com
SUMMARY:Live Music : Randy Miritello & Hop City Hellcats
DESCRIPTION:
URL:https://northwaybrewingco.com/event/live-music-randy-miritello-hop-city-hellcats-2/
CATEGORIES:Cooperstown
END:VEVENT
BEGIN:VEVENT
DTSTART;TZID=America/New_York:20260620T180000
DTEND;TZID=America/New_York:20260620T210000
DTSTAMP:20260421T161755
CREATED:20260306T004700Z
LAST-MODIFIED:20260317T030312Z
UID:10000276-1781978400-1781989200@northwaybrewingco.com
SUMMARY:Live Music : Hurricane Carter
DESCRIPTION:
URL:https://northwaybrewingco.com/event/live-music-hurricane-carter-2/
CATEGORIES:Cooperstown
END:VEVENT
BEGIN:VEVENT
DTSTART;TZID=America/New_York:20260624T180000
DTEND;TZID=America/New_York:20260624T210000
DTSTAMP:20260421T161755
CREATED:20260306T004701Z
LAST-MODIFIED:20260317T030312Z
UID:10000277-1782324000-1782334800@northwaybrewingco.com
SUMMARY:Live Music : The Mopar Cams
DESCRIPTION:
URL:https://northwaybrewingco.com/event/live-music-the-mopar-cams-3/
CATEGORIES:Cooperstown
END:VEVENT
BEGIN:VEVENT
DTSTART;TZID=America/New_York:20260627T180000
DTEND;TZID=America/New_York:20260627T210000
DTSTAMP:20260421T161755
CREATED:20260306T004701Z
LAST-MODIFIED:20260317T030313Z
UID:10000278-1782583200-1782594000@northwaybrewingco.com
SUMMARY:Live Music : Steel Rail
DESCRIPTION:
URL:https://northwaybrewingco.com/event/live-music-steel-rail-4/
CATEGORIES:Cooperstown
END:VEVENT
BEGIN:VEVENT
DTSTART;TZID=America/New_York:20260701T180000
DTEND;TZID=America/New_York:20260701T210000
DTSTAMP:20260421T161755
CREATED:20260306T004701Z
LAST-MODIFIED:20260317T030313Z
UID:10000279-1782928800-1782939600@northwaybrewingco.com
SUMMARY:Live Music : Poverty Hill
DESCRIPTION:
URL:https://northwaybrewingco.com/event/live-music-poverty-hill-2/
CATEGORIES:Cooperstown
END:VEVENT
BEGIN:VEVENT
DTSTART;TZID=America/New_York:20260704T180000
DTEND;TZID=America/New_York:20260704T210000
DTSTAMP:20260421T161755
CREATED:20260306T004702Z
LAST-MODIFIED:20260317T030313Z
UID:10000280-1783188000-1783198800@northwaybrewingco.com
SUMMARY:Live Music: Grateful Upstate Toodeloo
DESCRIPTION:
URL:https://northwaybrewingco.com/event/live-music-grateful-upstate-toodeloo-3/
CATEGORIES:Cooperstown
END:VEVENT
BEGIN:VEVENT
DTSTART;TZID=America/New_York:20260708T180000
DTEND;TZID=America/New_York:20260708T210000
DTSTAMP:20260421T161755
CREATED:20260306T004702Z
LAST-MODIFIED:20260317T030313Z
UID:10000281-1783533600-1783544400@northwaybrewingco.com
SUMMARY:Live Music : Keystone Kahns
DESCRIPTION:
URL:https://northwaybrewingco.com/event/live-music-keystone-kahns-2/
CATEGORIES:Cooperstown
END:VEVENT
BEGIN:VEVENT
DTSTART;TZID=America/New_York:20260711T180000
DTEND;TZID=America/New_York:20260711T210000
DTSTAMP:20260421T161755
CREATED:20260306T004703Z
LAST-MODIFIED:20260317T030314Z
UID:10000282-1783792800-1783803600@northwaybrewingco.com
SUMMARY:Live Music : Scattered Flurries
DESCRIPTION:
URL:https://northwaybrewingco.com/event/live-music-scattered-flurries-3/
CATEGORIES:Cooperstown
END:VEVENT
BEGIN:VEVENT
DTSTART;TZID=America/New_York:20260715T180000
DTEND;TZID=America/New_York:20260715T210000
DTSTAMP:20260421T161755
CREATED:20260306T004703Z
LAST-MODIFIED:20260317T030314Z
UID:10000283-1784138400-1784149200@northwaybrewingco.com
SUMMARY:Live Music : Barnyard Saints
DESCRIPTION:
URL:https://northwaybrewingco.com/event/live-music-barnyard-saints-2/
CATEGORIES:Cooperstown
END:VEVENT
BEGIN:VEVENT
DTSTART;TZID=America/New_York:20260718T180000
DTEND;TZID=America/New_York:20260718T210000
DTSTAMP:20260421T161755
CREATED:20260306T004703Z
LAST-MODIFIED:20260317T030314Z
UID:10000284-1784397600-1784408400@northwaybrewingco.com
SUMMARY:Live Music : American Primitives
DESCRIPTION:
URL:https://northwaybrewingco.com/event/live-music-american-primitives/
CATEGORIES:Cooperstown
END:VEVENT
BEGIN:VEVENT
DTSTART;TZID=America/New_York:20260722T180000
DTEND;TZID=America/New_York:20260722T210000
DTSTAMP:20260421T161755
CREATED:20260306T004703Z
LAST-MODIFIED:20260317T030315Z
UID:10000285-1784743200-1784754000@northwaybrewingco.com
SUMMARY:Live Music : Mojo Johnson
DESCRIPTION:
URL:https://northwaybrewingco.com/event/live-music-mojo-johnson/
CATEGORIES:Cooperstown
END:VEVENT
BEGIN:VEVENT
DTSTART;TZID=America/New_York:20260725T180000
DTEND;TZID=America/New_York:20260725T210000
DTSTAMP:20260421T161755
CREATED:20260306T004704Z
LAST-MODIFIED:20260317T030315Z
UID:10000286-1785002400-1785013200@northwaybrewingco.com
SUMMARY:Live Music : Becca Frame & The Tall Boys
DESCRIPTION:
URL:https://northwaybrewingco.com/event/live-music-becca-frame-the-tall-boys-2/
CATEGORIES:Cooperstown
END:VEVENT
BEGIN:VEVENT
DTSTART;TZID=America/New_York:20260729T180000
DTEND;TZID=America/New_York:20260729T210000
DTSTAMP:20260421T161755
CREATED:20260306T004704Z
LAST-MODIFIED:20260317T030315Z
UID:10000287-1785348000-1785358800@northwaybrewingco.com
SUMMARY:Live Music : Timeline
DESCRIPTION:
URL:https://northwaybrewingco.com/event/live-music-timeline-2/
CATEGORIES:Cooperstown
END:VEVENT
BEGIN:VEVENT
DTSTART;TZID=America/New_York:20260801T180000
DTEND;TZID=America/New_York:20260801T210000
DTSTAMP:20260421T161755
CREATED:20260306T004704Z
LAST-MODIFIED:20260317T030316Z
UID:10000288-1785607200-1785618000@northwaybrewingco.com
SUMMARY:Live Music : Glenn Rocks Band
DESCRIPTION:
URL:https://northwaybrewingco.com/event/live-music-glenn-rocks-band/
CATEGORIES:Cooperstown
END:VEVENT
BEGIN:VEVENT
DTSTART;TZID=America/New_York:20260805T180000
DTEND;TZID=America/New_York:20260805T210000
DTSTAMP:20260421T161755
CREATED:20260306T004705Z
LAST-MODIFIED:20260317T030316Z
UID:10000289-1785952800-1785963600@northwaybrewingco.com
SUMMARY:Live Music : Highway 61
DESCRIPTION:
URL:https://northwaybrewingco.com/event/live-music-highway-61-2/
CATEGORIES:Cooperstown
END:VEVENT
BEGIN:VEVENT
DTSTART;TZID=America/New_York:20260808T180000
DTEND;TZID=America/New_York:20260808T210000
DTSTAMP:20260421T161755
CREATED:20260306T004705Z
LAST-MODIFIED:20260317T030316Z
UID:10000290-1786212000-1786222800@northwaybrewingco.com
SUMMARY:Live Music : The Nate Gross Band
DESCRIPTION:
URL:https://northwaybrewingco.com/event/live-music-the-nate-gross-band-2/
CATEGORIES:Cooperstown
END:VEVENT
BEGIN:VEVENT
DTSTART;TZID=America/New_York:20260812T180000
DTEND;TZID=America/New_York:20260812T210000
DTSTAMP:20260421T161755
CREATED:20260306T004705Z
LAST-MODIFIED:20260317T030316Z
UID:10000291-1786557600-1786568400@northwaybrewingco.com
SUMMARY:Live Music : Red Wagon
DESCRIPTION:
URL:https://northwaybrewingco.com/event/live-music-red-wagon-3/
CATEGORIES:Cooperstown
END:VEVENT
BEGIN:VEVENT
DTSTART;TZID=America/New_York:20260815T180000
DTEND;TZID=America/New_York:20260815T210000
DTSTAMP:20260421T161755
CREATED:20260306T004706Z
LAST-MODIFIED:20260317T030317Z
UID:10000292-1786816800-1786827600@northwaybrewingco.com
SUMMARY:Live Music : Keystone Kahns
DESCRIPTION:
URL:https://northwaybrewingco.com/event/live-music-keystone-kahns-3/
CATEGORIES:Cooperstown
END:VEVENT
BEGIN:VEVENT
DTSTART;TZID=America/New_York:20260819T180000
DTEND;TZID=America/New_York:20260819T210000
DTSTAMP:20260421T161755
CREATED:20260306T004706Z
LAST-MODIFIED:20260317T030317Z
UID:10000293-1787162400-1787173200@northwaybrewingco.com
SUMMARY:Live Music : Riptide
DESCRIPTION:
URL:https://northwaybrewingco.com/event/live-music-riptide/
CATEGORIES:Cooperstown
END:VEVENT
BEGIN:VEVENT
DTSTART;TZID=America/New_York:20260822T180000
DTEND;TZID=America/New_York:20260822T210000
DTSTAMP:20260421T161755
CREATED:20260306T004706Z
LAST-MODIFIED:20260317T030317Z
UID:10000294-1787421600-1787432400@northwaybrewingco.com
SUMMARY:Live Music : Jason Wicks Band
DESCRIPTION:
URL:https://northwaybrewingco.com/event/live-music-jason-wicks-band/
CATEGORIES:Cooperstown
END:VEVENT
BEGIN:VEVENT
DTSTART;TZID=America/New_York:20260829T180000
DTEND;TZID=America/New_York:20260829T210000
DTSTAMP:20260421T161755
CREATED:20260306T004707Z
LAST-MODIFIED:20260317T030318Z
UID:10000295-1788026400-1788037200@northwaybrewingco.com
SUMMARY:Live Music : Grateful Upstate Toodeloo
DESCRIPTION:
URL:https://northwaybrewingco.com/event/live-music-grateful-upstate-toodeloo-4/
CATEGORIES:Cooperstown
END:VEVENT
END:VCALENDAR