BEGIN:VCALENDAR
VERSION:2.0
PRODID:-//Northway Brewing Co. - ECPv6.15.13//NONSGML v1.0//EN
CALSCALE:GREGORIAN
METHOD:PUBLISH
X-WR-CALNAME:Northway Brewing Co.
X-ORIGINAL-URL:https://northwaybrewingco.com
X-WR-CALDESC:Events for Northway Brewing Co.
REFRESH-INTERVAL;VALUE=DURATION:PT1H
X-Robots-Tag:noindex
X-PUBLISHED-TTL:PT1H
BEGIN:VTIMEZONE
TZID:America/New_York
BEGIN:DAYLIGHT
TZOFFSETFROM:-0500
TZOFFSETTO:-0400
TZNAME:EDT
DTSTART:20260308T070000
END:DAYLIGHT
BEGIN:STANDARD
TZOFFSETFROM:-0400
TZOFFSETTO:-0500
TZNAME:EST
DTSTART:20261101T060000
END:STANDARD
BEGIN:DAYLIGHT
TZOFFSETFROM:-0500
TZOFFSETTO:-0400
TZNAME:EDT
DTSTART:20270314T070000
END:DAYLIGHT
BEGIN:STANDARD
TZOFFSETFROM:-0400
TZOFFSETTO:-0500
TZNAME:EST
DTSTART:20271107T060000
END:STANDARD
BEGIN:DAYLIGHT
TZOFFSETFROM:-0500
TZOFFSETTO:-0400
TZNAME:EDT
DTSTART:20280312T070000
END:DAYLIGHT
BEGIN:STANDARD
TZOFFSETFROM:-0400
TZOFFSETTO:-0500
TZNAME:EST
DTSTART:20281105T060000
END:STANDARD
BEGIN:DAYLIGHT
TZOFFSETFROM:-0500
TZOFFSETTO:-0400
TZNAME:EDT
DTSTART:20290311T070000
END:DAYLIGHT
BEGIN:STANDARD
TZOFFSETFROM:-0400
TZOFFSETTO:-0500
TZNAME:EST
DTSTART:20291104T060000
END:STANDARD
END:VTIMEZONE
BEGIN:VEVENT
DTSTART;TZID=America/New_York:20270923T190000
DTEND;TZID=America/New_York:20270923T210000
DTSTAMP:20260421T015602
CREATED:20250923T103157Z
LAST-MODIFIED:20260420T091957Z
UID:10000175-1821726000-1821733200@northwaybrewingco.com
SUMMARY:Trivia Night
DESCRIPTION:
URL:https://northwaybrewingco.com/event/trivia-night-110/
CATEGORIES:Queensbury
END:VEVENT
BEGIN:VEVENT
DTSTART;TZID=America/New_York:20270930T190000
DTEND;TZID=America/New_York:20270930T210000
DTSTAMP:20260421T015602
CREATED:20250930T120346Z
LAST-MODIFIED:20260420T091957Z
UID:10000176-1822330800-1822338000@northwaybrewingco.com
SUMMARY:Trivia Night
DESCRIPTION:
URL:https://northwaybrewingco.com/event/trivia-night-111/
CATEGORIES:Queensbury
END:VEVENT
BEGIN:VEVENT
DTSTART;TZID=America/New_York:20271007T190000
DTEND;TZID=America/New_York:20271007T210000
DTSTAMP:20260421T015602
CREATED:20251007T125213Z
LAST-MODIFIED:20260420T091957Z
UID:10000177-1822935600-1822942800@northwaybrewingco.com
SUMMARY:Trivia Night
DESCRIPTION:
URL:https://northwaybrewingco.com/event/trivia-night-112/
CATEGORIES:Queensbury
END:VEVENT
BEGIN:VEVENT
DTSTART;TZID=America/New_York:20271014T190000
DTEND;TZID=America/New_York:20271014T210000
DTSTAMP:20260421T015602
CREATED:20251014T184831Z
LAST-MODIFIED:20260420T091957Z
UID:10000181-1823540400-1823547600@northwaybrewingco.com
SUMMARY:Trivia Night
DESCRIPTION:
URL:https://northwaybrewingco.com/event/trivia-night-113/
CATEGORIES:Queensbury
END:VEVENT
BEGIN:VEVENT
DTSTART;TZID=America/New_York:20271021T190000
DTEND;TZID=America/New_York:20271021T210000
DTSTAMP:20260421T015602
CREATED:20251021T002011Z
LAST-MODIFIED:20260420T091957Z
UID:10000195-1824145200-1824152400@northwaybrewingco.com
SUMMARY:Trivia Night
DESCRIPTION:
URL:https://northwaybrewingco.com/event/trivia-night-114/
CATEGORIES:Queensbury
END:VEVENT
BEGIN:VEVENT
DTSTART;TZID=America/New_York:20271028T190000
DTEND;TZID=America/New_York:20271028T210000
DTSTAMP:20260421T015602
CREATED:20251028T214715Z
LAST-MODIFIED:20260420T091957Z
UID:10000196-1824750000-1824757200@northwaybrewingco.com
SUMMARY:Trivia Night
DESCRIPTION:
URL:https://northwaybrewingco.com/event/trivia-night-115/
CATEGORIES:Queensbury
END:VEVENT
BEGIN:VEVENT
DTSTART;TZID=America/New_York:20271104T190000
DTEND;TZID=America/New_York:20271104T210000
DTSTAMP:20260421T015602
CREATED:20251104T233026Z
LAST-MODIFIED:20260420T091958Z
UID:10000201-1825354800-1825362000@northwaybrewingco.com
SUMMARY:Trivia Night
DESCRIPTION:
URL:https://northwaybrewingco.com/event/trivia-night-116/
CATEGORIES:Queensbury
END:VEVENT
BEGIN:VEVENT
DTSTART;TZID=America/New_York:20271111T190000
DTEND;TZID=America/New_York:20271111T210000
DTSTAMP:20260421T015602
CREATED:20251112T004806Z
LAST-MODIFIED:20260420T091958Z
UID:10000202-1825959600-1825966800@northwaybrewingco.com
SUMMARY:Trivia Night
DESCRIPTION:
URL:https://northwaybrewingco.com/event/trivia-night-117/
CATEGORIES:Queensbury
END:VEVENT
BEGIN:VEVENT
DTSTART;TZID=America/New_York:20271118T190000
DTEND;TZID=America/New_York:20271118T210000
DTSTAMP:20260421T015602
CREATED:20251119T023008Z
LAST-MODIFIED:20260420T091958Z
UID:10000209-1826564400-1826571600@northwaybrewingco.com
SUMMARY:Trivia Night
DESCRIPTION:
URL:https://northwaybrewingco.com/event/trivia-night-118/
CATEGORIES:Queensbury
END:VEVENT
BEGIN:VEVENT
DTSTART;TZID=America/New_York:20271125T190000
DTEND;TZID=America/New_York:20271125T210000
DTSTAMP:20260421T015602
CREATED:20251126T034450Z
LAST-MODIFIED:20260420T091958Z
UID:10000218-1827169200-1827176400@northwaybrewingco.com
SUMMARY:Trivia Night
DESCRIPTION:
URL:https://northwaybrewingco.com/event/trivia-night-119/
CATEGORIES:Queensbury
END:VEVENT
BEGIN:VEVENT
DTSTART;TZID=America/New_York:20271202T190000
DTEND;TZID=America/New_York:20271202T210000
DTSTAMP:20260421T015602
CREATED:20251203T050151Z
LAST-MODIFIED:20260420T091958Z
UID:10000219-1827774000-1827781200@northwaybrewingco.com
SUMMARY:Trivia Night
DESCRIPTION:
URL:https://northwaybrewingco.com/event/trivia-night-120/
CATEGORIES:Queensbury
END:VEVENT
BEGIN:VEVENT
DTSTART;TZID=America/New_York:20271209T190000
DTEND;TZID=America/New_York:20271209T210000
DTSTAMP:20260421T015602
CREATED:20251210T063318Z
LAST-MODIFIED:20260420T091958Z
UID:10000221-1828378800-1828386000@northwaybrewingco.com
SUMMARY:Trivia Night
DESCRIPTION:
URL:https://northwaybrewingco.com/event/trivia-night-121/
CATEGORIES:Queensbury
END:VEVENT
BEGIN:VEVENT
DTSTART;TZID=America/New_York:20271216T190000
DTEND;TZID=America/New_York:20271216T210000
DTSTAMP:20260421T015602
CREATED:20251218T182342Z
LAST-MODIFIED:20260420T091959Z
UID:10000253-1828983600-1828990800@northwaybrewingco.com
SUMMARY:Trivia Night
DESCRIPTION:
URL:https://northwaybrewingco.com/event/trivia-night-122/
CATEGORIES:Queensbury
END:VEVENT
BEGIN:VEVENT
DTSTART;TZID=America/New_York:20271223T190000
DTEND;TZID=America/New_York:20271223T210000
DTSTAMP:20260421T015602
CREATED:20251224T193127Z
LAST-MODIFIED:20260420T091959Z
UID:10000254-1829588400-1829595600@northwaybrewingco.com
SUMMARY:Trivia Night
DESCRIPTION:
URL:https://northwaybrewingco.com/event/trivia-night-123/
CATEGORIES:Queensbury
END:VEVENT
BEGIN:VEVENT
DTSTART;TZID=America/New_York:20271230T190000
DTEND;TZID=America/New_York:20271230T210000
DTSTAMP:20260421T015602
CREATED:20251231T210403Z
LAST-MODIFIED:20260420T091959Z
UID:10000255-1830193200-1830200400@northwaybrewingco.com
SUMMARY:Trivia Night
DESCRIPTION:
URL:https://northwaybrewingco.com/event/trivia-night-124/
CATEGORIES:Queensbury
END:VEVENT
BEGIN:VEVENT
DTSTART;TZID=America/New_York:20280106T190000
DTEND;TZID=America/New_York:20280106T210000
DTSTAMP:20260421T015602
CREATED:20260107T224726Z
LAST-MODIFIED:20260420T091959Z
UID:10000256-1830798000-1830805200@northwaybrewingco.com
SUMMARY:Trivia Night
DESCRIPTION:
URL:https://northwaybrewingco.com/event/trivia-night-125/
CATEGORIES:Queensbury
END:VEVENT
BEGIN:VEVENT
DTSTART;TZID=America/New_York:20280113T190000
DTEND;TZID=America/New_York:20280113T210000
DTSTAMP:20260421T015602
CREATED:20260114T000648Z
LAST-MODIFIED:20260420T091959Z
UID:10000257-1831402800-1831410000@northwaybrewingco.com
SUMMARY:Trivia Night
DESCRIPTION:
URL:https://northwaybrewingco.com/event/trivia-night-126/
CATEGORIES:Queensbury
END:VEVENT
BEGIN:VEVENT
DTSTART;TZID=America/New_York:20280120T190000
DTEND;TZID=America/New_York:20280120T210000
DTSTAMP:20260421T015602
CREATED:20260121T014512Z
LAST-MODIFIED:20260420T091959Z
UID:10000259-1832007600-1832014800@northwaybrewingco.com
SUMMARY:Trivia Night
DESCRIPTION:
URL:https://northwaybrewingco.com/event/trivia-night-127/
CATEGORIES:Queensbury
END:VEVENT
BEGIN:VEVENT
DTSTART;TZID=America/New_York:20280127T190000
DTEND;TZID=America/New_York:20280127T210000
DTSTAMP:20260421T015602
CREATED:20260128T030414Z
LAST-MODIFIED:20260420T092000Z
UID:10000260-1832612400-1832619600@northwaybrewingco.com
SUMMARY:Trivia Night
DESCRIPTION:
URL:https://northwaybrewingco.com/event/trivia-night-128/
CATEGORIES:Queensbury
END:VEVENT
BEGIN:VEVENT
DTSTART;TZID=America/New_York:20280203T190000
DTEND;TZID=America/New_York:20280203T210000
DTSTAMP:20260421T015602
CREATED:20260204T043410Z
LAST-MODIFIED:20260420T092000Z
UID:10000261-1833217200-1833224400@northwaybrewingco.com
SUMMARY:Trivia Night
DESCRIPTION:
URL:https://northwaybrewingco.com/event/trivia-night-129/
CATEGORIES:Queensbury
END:VEVENT
BEGIN:VEVENT
DTSTART;TZID=America/New_York:20280210T190000
DTEND;TZID=America/New_York:20280210T210000
DTSTAMP:20260421T015602
CREATED:20260211T062951Z
LAST-MODIFIED:20260420T092000Z
UID:10000262-1833822000-1833829200@northwaybrewingco.com
SUMMARY:Trivia Night
DESCRIPTION:
URL:https://northwaybrewingco.com/event/trivia-night-130/
CATEGORIES:Queensbury
END:VEVENT
BEGIN:VEVENT
DTSTART;TZID=America/New_York:20280217T190000
DTEND;TZID=America/New_York:20280217T210000
DTSTAMP:20260421T015602
CREATED:20260218T211610Z
LAST-MODIFIED:20260420T092000Z
UID:10000271-1834426800-1834434000@northwaybrewingco.com
SUMMARY:Trivia Night
DESCRIPTION:
URL:https://northwaybrewingco.com/event/trivia-night-131/
CATEGORIES:Queensbury
END:VEVENT
BEGIN:VEVENT
DTSTART;TZID=America/New_York:20280224T190000
DTEND;TZID=America/New_York:20280224T210000
DTSTAMP:20260421T015602
CREATED:20260225T231729Z
LAST-MODIFIED:20260420T092000Z
UID:10000272-1835031600-1835038800@northwaybrewingco.com
SUMMARY:Trivia Night
DESCRIPTION:
URL:https://northwaybrewingco.com/event/trivia-night-132/
CATEGORIES:Queensbury
END:VEVENT
BEGIN:VEVENT
DTSTART;TZID=America/New_York:20280302T190000
DTEND;TZID=America/New_York:20280302T210000
DTSTAMP:20260421T015602
CREATED:20260303T003048Z
LAST-MODIFIED:20260420T092000Z
UID:10000273-1835636400-1835643600@northwaybrewingco.com
SUMMARY:Trivia Night
DESCRIPTION:
URL:https://northwaybrewingco.com/event/trivia-night-133/
CATEGORIES:Queensbury
END:VEVENT
BEGIN:VEVENT
DTSTART;TZID=America/New_York:20280309T190000
DTEND;TZID=America/New_York:20280309T210000
DTSTAMP:20260421T015602
CREATED:20260310T023349Z
LAST-MODIFIED:20260420T092001Z
UID:10000296-1836241200-1836248400@northwaybrewingco.com
SUMMARY:Trivia Night
DESCRIPTION:
URL:https://northwaybrewingco.com/event/trivia-night-134/
CATEGORIES:Queensbury
END:VEVENT
BEGIN:VEVENT
DTSTART;TZID=America/New_York:20280316T190000
DTEND;TZID=America/New_York:20280316T210000
DTSTAMP:20260421T015602
CREATED:20260316T040156Z
LAST-MODIFIED:20260420T092001Z
UID:10000297-1836846000-1836853200@northwaybrewingco.com
SUMMARY:Trivia Night
DESCRIPTION:
URL:https://northwaybrewingco.com/event/trivia-night-135/
CATEGORIES:Queensbury
END:VEVENT
BEGIN:VEVENT
DTSTART;TZID=America/New_York:20280323T190000
DTEND;TZID=America/New_York:20280323T210000
DTSTAMP:20260421T015602
CREATED:20260323T051554Z
LAST-MODIFIED:20260420T092002Z
UID:10000298-1837450800-1837458000@northwaybrewingco.com
SUMMARY:Trivia Night
DESCRIPTION:
URL:https://northwaybrewingco.com/event/trivia-night-136/
CATEGORIES:Queensbury
END:VEVENT
BEGIN:VEVENT
DTSTART;TZID=America/New_York:20280330T190000
DTEND;TZID=America/New_York:20280330T210000
DTSTAMP:20260421T015602
CREATED:20260330T061618Z
LAST-MODIFIED:20260420T092003Z
UID:10000304-1838055600-1838062800@northwaybrewingco.com
SUMMARY:Trivia Night
DESCRIPTION:
URL:https://northwaybrewingco.com/event/trivia-night-137/
CATEGORIES:Queensbury
END:VEVENT
BEGIN:VEVENT
DTSTART;TZID=America/New_York:20280406T190000
DTEND;TZID=America/New_York:20280406T210000
DTSTAMP:20260421T015602
CREATED:20260406T070042Z
LAST-MODIFIED:20260420T092003Z
UID:10000305-1838660400-1838667600@northwaybrewingco.com
SUMMARY:Trivia Night
DESCRIPTION:
URL:https://northwaybrewingco.com/event/trivia-night-138/
CATEGORIES:Queensbury
END:VEVENT
BEGIN:VEVENT
DTSTART;TZID=America/New_York:20280413T190000
DTEND;TZID=America/New_York:20280413T210000
DTSTAMP:20260421T015602
CREATED:20260413T082946Z
LAST-MODIFIED:20260420T092003Z
UID:10000306-1839265200-1839272400@northwaybrewingco.com
SUMMARY:Trivia Night
DESCRIPTION:
URL:https://northwaybrewingco.com/event/trivia-night-139/
CATEGORIES:Queensbury
END:VEVENT
END:VCALENDAR