BEGIN:VCALENDAR
VERSION:2.0
PRODID:-//Northway Brewing Co. - ECPv6.15.13//NONSGML v1.0//EN
CALSCALE:GREGORIAN
METHOD:PUBLISH
X-WR-CALNAME:Northway Brewing Co.
X-ORIGINAL-URL:https://northwaybrewingco.com
X-WR-CALDESC:Events for Northway Brewing Co.
REFRESH-INTERVAL;VALUE=DURATION:PT1H
X-Robots-Tag:noindex
X-PUBLISHED-TTL:PT1H
BEGIN:VTIMEZONE
TZID:America/New_York
BEGIN:DAYLIGHT
TZOFFSETFROM:-0500
TZOFFSETTO:-0400
TZNAME:EDT
DTSTART:20250309T070000
END:DAYLIGHT
BEGIN:STANDARD
TZOFFSETFROM:-0400
TZOFFSETTO:-0500
TZNAME:EST
DTSTART:20251102T060000
END:STANDARD
BEGIN:DAYLIGHT
TZOFFSETFROM:-0500
TZOFFSETTO:-0400
TZNAME:EDT
DTSTART:20260308T070000
END:DAYLIGHT
BEGIN:STANDARD
TZOFFSETFROM:-0400
TZOFFSETTO:-0500
TZNAME:EST
DTSTART:20261101T060000
END:STANDARD
BEGIN:DAYLIGHT
TZOFFSETFROM:-0500
TZOFFSETTO:-0400
TZNAME:EDT
DTSTART:20270314T070000
END:DAYLIGHT
BEGIN:STANDARD
TZOFFSETFROM:-0400
TZOFFSETTO:-0500
TZNAME:EST
DTSTART:20271107T060000
END:STANDARD
END:VTIMEZONE
BEGIN:VEVENT
DTSTART;TZID=America/New_York:20260326T190000
DTEND;TZID=America/New_York:20260326T210000
DTSTAMP:20260420T114330
CREATED:20250820T183739Z
LAST-MODIFIED:20260326T054759Z
UID:10000039-1774551600-1774558800@northwaybrewingco.com
SUMMARY:Trivia Night
DESCRIPTION:
URL:https://northwaybrewingco.com/event/trivia-night-32/
CATEGORIES:Queensbury
END:VEVENT
BEGIN:VEVENT
DTSTART;TZID=America/New_York:20260328T180000
DTEND;TZID=America/New_York:20260328T200000
DTSTAMP:20260420T114330
CREATED:20251216T072039Z
LAST-MODIFIED:20260317T030309Z
UID:10000243-1774720800-1774728000@northwaybrewingco.com
SUMMARY:Live Music : Grateful Upstate Toodeloo
DESCRIPTION:
URL:https://northwaybrewingco.com/event/live-music-grateful-upstate-toodeloo-2/
CATEGORIES:Cooperstown
END:VEVENT
BEGIN:VEVENT
DTSTART;TZID=America/New_York:20260329T130000
DTEND;TZID=America/New_York:20260329T160000
DTSTAMP:20260420T114330
CREATED:20260212T064447Z
LAST-MODIFIED:20260329T061626Z
UID:10000265-1774789200-1774800000@northwaybrewingco.com
SUMMARY:MUSIC: CAITY GALLAGHER
DESCRIPTION:
URL:https://northwaybrewingco.com/event/music-caity-gallagher-5/
CATEGORIES:Queensbury
END:VEVENT
BEGIN:VEVENT
DTSTART;TZID=America/New_York:20260402T190000
DTEND;TZID=America/New_York:20260402T210000
DTSTAMP:20260420T114330
CREATED:20250820T183739Z
LAST-MODIFIED:20260402T063015Z
UID:10000040-1775156400-1775163600@northwaybrewingco.com
SUMMARY:Trivia Night
DESCRIPTION:
URL:https://northwaybrewingco.com/event/trivia-night-33/
CATEGORIES:Queensbury
END:VEVENT
BEGIN:VEVENT
DTSTART;TZID=America/New_York:20260403T173000
DTEND;TZID=America/New_York:20260403T200000
DTSTAMP:20260420T114330
CREATED:20260212T064447Z
LAST-MODIFIED:20260403T063541Z
UID:10000266-1775237400-1775246400@northwaybrewingco.com
SUMMARY:MUSIC: BRENDAN DAILEY
DESCRIPTION:
URL:https://northwaybrewingco.com/event/music-brendan-dailey-5/
CATEGORIES:Queensbury
END:VEVENT
BEGIN:VEVENT
DTSTART;TZID=America/New_York:20260404T180000
DTEND;TZID=America/New_York:20260404T200000
DTSTAMP:20260420T114330
CREATED:20251216T072040Z
LAST-MODIFIED:20260317T030309Z
UID:10000244-1775325600-1775332800@northwaybrewingco.com
SUMMARY:Live Music : Poverty Hill
DESCRIPTION:
URL:https://northwaybrewingco.com/event/live-music-poverty-hill/
CATEGORIES:Cooperstown
END:VEVENT
BEGIN:VEVENT
DTSTART;TZID=America/New_York:20260409T190000
DTEND;TZID=America/New_York:20260409T210000
DTSTAMP:20260420T114330
CREATED:20250820T183739Z
LAST-MODIFIED:20260409T074510Z
UID:10000041-1775761200-1775768400@northwaybrewingco.com
SUMMARY:Trivia Night
DESCRIPTION:
URL:https://northwaybrewingco.com/event/trivia-night-34/
CATEGORIES:Queensbury
END:VEVENT
BEGIN:VEVENT
DTSTART;TZID=America/New_York:20260411T150000
DTEND;TZID=America/New_York:20260411T180000
DTSTAMP:20260420T114330
CREATED:20260212T064448Z
LAST-MODIFIED:20260411T080014Z
UID:10000267-1775919600-1775930400@northwaybrewingco.com
SUMMARY:MUSIC: ROB FLEMING
DESCRIPTION:
URL:https://northwaybrewingco.com/event/music-rob-fleming-5/
CATEGORIES:Queensbury
END:VEVENT
BEGIN:VEVENT
DTSTART;TZID=America/New_York:20260411T180000
DTEND;TZID=America/New_York:20260411T200000
DTSTAMP:20260420T114330
CREATED:20251216T072040Z
LAST-MODIFIED:20260317T030309Z
UID:10000245-1775930400-1775937600@northwaybrewingco.com
SUMMARY:Live Music : Becca Frame and The Tall Boys
DESCRIPTION:
URL:https://northwaybrewingco.com/event/live-music-becca-frame-and-the-tall-boys/
CATEGORIES:Cooperstown
END:VEVENT
BEGIN:VEVENT
DTSTART;TZID=America/New_York:20260416T190000
DTEND;TZID=America/New_York:20260416T210000
DTSTAMP:20260420T114330
CREATED:20250820T183739Z
LAST-MODIFIED:20260416T085208Z
UID:10000042-1776366000-1776373200@northwaybrewingco.com
SUMMARY:Trivia Night
DESCRIPTION:
URL:https://northwaybrewingco.com/event/trivia-night-35/
CATEGORIES:Queensbury
END:VEVENT
BEGIN:VEVENT
DTSTART;TZID=America/New_York:20260417T173000
DTEND;TZID=America/New_York:20260417T200000
DTSTAMP:20260420T114330
CREATED:20260212T064502Z
LAST-MODIFIED:20260417T090349Z
UID:10000268-1776447000-1776456000@northwaybrewingco.com
SUMMARY:MUSIC: TIM & NORM DUO
DESCRIPTION:
URL:https://northwaybrewingco.com/event/music-tim-norm-duo/
CATEGORIES:Queensbury
END:VEVENT
BEGIN:VEVENT
DTSTART;TZID=America/New_York:20260418T180000
DTEND;TZID=America/New_York:20260418T200000
DTSTAMP:20260420T114330
CREATED:20251216T072041Z
LAST-MODIFIED:20260317T030309Z
UID:10000246-1776535200-1776542400@northwaybrewingco.com
SUMMARY:Live Music : Timeline
DESCRIPTION:
URL:https://northwaybrewingco.com/event/live-music-highway-61/
CATEGORIES:Cooperstown
END:VEVENT
BEGIN:VEVENT
DTSTART;TZID=America/New_York:20260423T190000
DTEND;TZID=America/New_York:20260423T210000
DTSTAMP:20260420T114330
CREATED:20250820T183739Z
LAST-MODIFIED:20260420T091942Z
UID:10000043-1776970800-1776978000@northwaybrewingco.com
SUMMARY:Trivia Night
DESCRIPTION:
URL:https://northwaybrewingco.com/event/trivia-night-36/
CATEGORIES:Queensbury
END:VEVENT
BEGIN:VEVENT
DTSTART;TZID=America/New_York:20260425T180000
DTEND;TZID=America/New_York:20260425T200000
DTSTAMP:20260420T114330
CREATED:20251216T072041Z
LAST-MODIFIED:20260317T030310Z
UID:10000247-1777140000-1777147200@northwaybrewingco.com
SUMMARY:Live Music : Trunlebones
DESCRIPTION:
URL:https://northwaybrewingco.com/event/live-music-gruper-soup/
CATEGORIES:Cooperstown
END:VEVENT
BEGIN:VEVENT
DTSTART;TZID=America/New_York:20260426T130000
DTEND;TZID=America/New_York:20260426T160000
DTSTAMP:20260420T114330
CREATED:20260212T064503Z
LAST-MODIFIED:20260420T091942Z
UID:10000269-1777208400-1777219200@northwaybrewingco.com
SUMMARY:MUSIC: MARK PIERRE DUO
DESCRIPTION:
URL:https://northwaybrewingco.com/event/music-caity-gallagher-6/
CATEGORIES:Queensbury
END:VEVENT
BEGIN:VEVENT
DTSTART;TZID=America/New_York:20260430T190000
DTEND;TZID=America/New_York:20260430T210000
DTSTAMP:20260420T114330
CREATED:20250820T183739Z
LAST-MODIFIED:20260420T091942Z
UID:10000044-1777575600-1777582800@northwaybrewingco.com
SUMMARY:Trivia Night
DESCRIPTION:
URL:https://northwaybrewingco.com/event/trivia-night-37/
CATEGORIES:Queensbury
END:VEVENT
BEGIN:VEVENT
DTSTART;TZID=America/New_York:20260502T180000
DTEND;TZID=America/New_York:20260502T200000
DTSTAMP:20260420T114330
CREATED:20251216T072042Z
LAST-MODIFIED:20260317T030310Z
UID:10000248-1777744800-1777752000@northwaybrewingco.com
SUMMARY:Live Music : Keystone Kahns
DESCRIPTION:
URL:https://northwaybrewingco.com/event/live-music-keystone-kahns/
CATEGORIES:Cooperstown
END:VEVENT
BEGIN:VEVENT
DTSTART;TZID=America/New_York:20260503T130000
DTEND;TZID=America/New_York:20260503T160000
DTSTAMP:20260420T114330
CREATED:20260325T052909Z
LAST-MODIFIED:20260420T091942Z
UID:10000299-1777813200-1777824000@northwaybrewingco.com
SUMMARY:MUSIC: ANDY CHIRGWIN
DESCRIPTION:
URL:https://northwaybrewingco.com/event/music-andy-chirgwin-4/
CATEGORIES:Queensbury
END:VEVENT
BEGIN:VEVENT
DTSTART;TZID=America/New_York:20260507T190000
DTEND;TZID=America/New_York:20260507T210000
DTSTAMP:20260420T114330
CREATED:20250820T183740Z
LAST-MODIFIED:20260420T091942Z
UID:10000045-1778180400-1778187600@northwaybrewingco.com
SUMMARY:Trivia Night
DESCRIPTION:
URL:https://northwaybrewingco.com/event/trivia-night-38/
CATEGORIES:Queensbury
END:VEVENT
BEGIN:VEVENT
DTSTART;TZID=America/New_York:20260509T180000
DTEND;TZID=America/New_York:20260509T200000
DTSTAMP:20260420T114330
CREATED:20251216T072042Z
LAST-MODIFIED:20260317T030310Z
UID:10000249-1778349600-1778356800@northwaybrewingco.com
SUMMARY:Live Music : The Jupiters
DESCRIPTION:
URL:https://northwaybrewingco.com/event/live-music-the-jupiters/
CATEGORIES:Cooperstown
END:VEVENT
BEGIN:VEVENT
DTSTART;TZID=America/New_York:20260514T190000
DTEND;TZID=America/New_York:20260514T210000
DTSTAMP:20260420T114330
CREATED:20250820T183740Z
LAST-MODIFIED:20260420T091943Z
UID:10000046-1778785200-1778792400@northwaybrewingco.com
SUMMARY:Trivia Night
DESCRIPTION:
URL:https://northwaybrewingco.com/event/trivia-night-39/
CATEGORIES:Queensbury
END:VEVENT
BEGIN:VEVENT
DTSTART;VALUE=DATE:20260516
DTEND;VALUE=DATE:20260517
DTSTAMP:20260420T114330
CREATED:20260326T054438Z
LAST-MODIFIED:20260420T091943Z
UID:10000302-1778889600-1778975999@northwaybrewingco.com
SUMMARY:SUMMIT DAY-
DESCRIPTION:
URL:https://northwaybrewingco.com/event/summit-day/
CATEGORIES:Queensbury
END:VEVENT
BEGIN:VEVENT
DTSTART;TZID=America/New_York:20260516T140000
DTEND;TZID=America/New_York:20260516T170000
DTSTAMP:20260420T114330
CREATED:20260326T054438Z
LAST-MODIFIED:20260420T091943Z
UID:10000303-1778940000-1778950800@northwaybrewingco.com
SUMMARY:MUSIC:
DESCRIPTION:
URL:https://northwaybrewingco.com/event/music/
CATEGORIES:Queensbury
END:VEVENT
BEGIN:VEVENT
DTSTART;TZID=America/New_York:20260516T180000
DTEND;TZID=America/New_York:20260516T200000
DTSTAMP:20260420T114330
CREATED:20251216T072043Z
LAST-MODIFIED:20260317T030311Z
UID:10000250-1778954400-1778961600@northwaybrewingco.com
SUMMARY:Live Music : Music Mafia Inc.
DESCRIPTION:
URL:https://northwaybrewingco.com/event/live-music-hurricane-carter/
CATEGORIES:Cooperstown
END:VEVENT
BEGIN:VEVENT
DTSTART;TZID=America/New_York:20260521T190000
DTEND;TZID=America/New_York:20260521T210000
DTSTAMP:20260420T114330
CREATED:20250820T183740Z
LAST-MODIFIED:20260420T091943Z
UID:10000047-1779390000-1779397200@northwaybrewingco.com
SUMMARY:Trivia Night
DESCRIPTION:
URL:https://northwaybrewingco.com/event/trivia-night-40/
CATEGORIES:Queensbury
END:VEVENT
BEGIN:VEVENT
DTSTART;TZID=America/New_York:20260522T173000
DTEND;TZID=America/New_York:20260522T200000
DTSTAMP:20260420T114330
CREATED:20260325T052910Z
LAST-MODIFIED:20260420T091943Z
UID:10000300-1779471000-1779480000@northwaybrewingco.com
SUMMARY:MUSIC: BRENDAN DAILEY
DESCRIPTION:
URL:https://northwaybrewingco.com/event/music-brendan-dailey-6/
CATEGORIES:Queensbury
END:VEVENT
BEGIN:VEVENT
DTSTART;TZID=America/New_York:20260523T180000
DTEND;TZID=America/New_York:20260523T200000
DTSTAMP:20260420T114330
CREATED:20251216T072043Z
LAST-MODIFIED:20260317T030311Z
UID:10000251-1779559200-1779566400@northwaybrewingco.com
SUMMARY:Live Music : Northern Ramble
DESCRIPTION:
URL:https://northwaybrewingco.com/event/live-music-northern-ramble-2/
CATEGORIES:Cooperstown
END:VEVENT
BEGIN:VEVENT
DTSTART;TZID=America/New_York:20260528T190000
DTEND;TZID=America/New_York:20260528T210000
DTSTAMP:20260420T114330
CREATED:20250820T183740Z
LAST-MODIFIED:20260420T091954Z
UID:10000048-1779994800-1780002000@northwaybrewingco.com
SUMMARY:Trivia Night
DESCRIPTION:
URL:https://northwaybrewingco.com/event/trivia-night-41/
CATEGORIES:Queensbury
END:VEVENT
BEGIN:VEVENT
DTSTART;TZID=America/New_York:20260530T180000
DTEND;TZID=America/New_York:20260530T200000
DTSTAMP:20260420T114330
CREATED:20251216T072044Z
LAST-MODIFIED:20260317T030311Z
UID:10000252-1780164000-1780171200@northwaybrewingco.com
SUMMARY:Live Music : Red Wagon
DESCRIPTION:
URL:https://northwaybrewingco.com/event/live-music-red-wagon-2/
CATEGORIES:Cooperstown
END:VEVENT
BEGIN:VEVENT
DTSTART;TZID=America/New_York:20260531T130000
DTEND;TZID=America/New_York:20260531T160000
DTSTAMP:20260420T114330
CREATED:20260325T052911Z
LAST-MODIFIED:20260420T091954Z
UID:10000301-1780232400-1780243200@northwaybrewingco.com
SUMMARY:MUSIC: CAROLYN SHAPIRO
DESCRIPTION:
URL:https://northwaybrewingco.com/event/music-carolyn-shapiro-2/
CATEGORIES:Queensbury
END:VEVENT
END:VCALENDAR