BEGIN:VCALENDAR
VERSION:2.0
PRODID:-//Northway Brewing Co. - ECPv6.15.13//NONSGML v1.0//EN
CALSCALE:GREGORIAN
METHOD:PUBLISH
X-WR-CALNAME:Northway Brewing Co.
X-ORIGINAL-URL:https://northwaybrewingco.com
X-WR-CALDESC:Events for Northway Brewing Co.
REFRESH-INTERVAL;VALUE=DURATION:PT1H
X-Robots-Tag:noindex
X-PUBLISHED-TTL:PT1H
BEGIN:VTIMEZONE
TZID:America/New_York
BEGIN:DAYLIGHT
TZOFFSETFROM:-0500
TZOFFSETTO:-0400
TZNAME:EDT
DTSTART:20240310T070000
END:DAYLIGHT
BEGIN:STANDARD
TZOFFSETFROM:-0400
TZOFFSETTO:-0500
TZNAME:EST
DTSTART:20241103T060000
END:STANDARD
BEGIN:DAYLIGHT
TZOFFSETFROM:-0500
TZOFFSETTO:-0400
TZNAME:EDT
DTSTART:20250309T070000
END:DAYLIGHT
BEGIN:STANDARD
TZOFFSETFROM:-0400
TZOFFSETTO:-0500
TZNAME:EST
DTSTART:20251102T060000
END:STANDARD
BEGIN:DAYLIGHT
TZOFFSETFROM:-0500
TZOFFSETTO:-0400
TZNAME:EDT
DTSTART:20260308T070000
END:DAYLIGHT
BEGIN:STANDARD
TZOFFSETFROM:-0400
TZOFFSETTO:-0500
TZNAME:EST
DTSTART:20261101T060000
END:STANDARD
END:VTIMEZONE
BEGIN:VEVENT
DTSTART;TZID=America/New_York:20251203T173000
DTEND;TZID=America/New_York:20251203T203000
DTSTAMP:20260420T145833
CREATED:20251114T011417Z
LAST-MODIFIED:20251203T050407Z
UID:10000206-1764783000-1764793800@northwaybrewingco.com
SUMMARY:DISC GOLF INDOOR PUTTING
DESCRIPTION:
URL:https://northwaybrewingco.com/event/disc-golf-indoor-putting/
CATEGORIES:Queensbury
END:VEVENT
BEGIN:VEVENT
DTSTART;TZID=America/New_York:20251130T130000
DTEND;TZID=America/New_York:20251130T160000
DTSTAMP:20260420T145833
CREATED:20251114T011417Z
LAST-MODIFIED:20251130T043821Z
UID:10000205-1764507600-1764518400@northwaybrewingco.com
SUMMARY:PAWS FOR A CAUSE EVENT WITH LUCKY PUPPY RESCUE
DESCRIPTION:
URL:https://northwaybrewingco.com/event/paws-for-a-cause-event-with-lucky-puppy-rescue/
CATEGORIES:Queensbury
END:VEVENT
BEGIN:VEVENT
DTSTART;TZID=America/New_York:20251129T180000
DTEND;TZID=America/New_York:20251129T200000
DTSTAMP:20260420T145833
CREATED:20251015T190934Z
LAST-MODIFIED:20251129T031712Z
UID:10000190-1764439200-1764446400@northwaybrewingco.com
SUMMARY:Live Music : Kilashandra
DESCRIPTION:
URL:https://northwaybrewingco.com/event/live-music-kilashandra-2/
CATEGORIES:Cooperstown
END:VEVENT
BEGIN:VEVENT
DTSTART;VALUE=DATE:20251128
DTEND;VALUE=DATE:20251129
DTSTAMP:20260420T145833
CREATED:20250820T191903Z
LAST-MODIFIED:20251128T030514Z
UID:10000141-1764288000-1764374399@northwaybrewingco.com
SUMMARY:$5.00 Fridays
DESCRIPTION:
URL:https://northwaybrewingco.com/event/5-00-fridays-13/
CATEGORIES:Cooperstown
END:VEVENT
BEGIN:VEVENT
DTSTART;TZID=America/New_York:20251127T190000
DTEND;TZID=America/New_York:20251127T210000
DTSTAMP:20260420T145833
CREATED:20250820T183736Z
LAST-MODIFIED:20251127T034904Z
UID:10000022-1764270000-1764277200@northwaybrewingco.com
SUMMARY:Trivia Night
DESCRIPTION:
URL:https://northwaybrewingco.com/event/trivia-night-15/
CATEGORIES:Queensbury
END:VEVENT
BEGIN:VEVENT
DTSTART;TZID=America/New_York:20251125T180000
DTEND;TZID=America/New_York:20251125T200000
DTSTAMP:20260420T145833
CREATED:20251030T213355Z
LAST-MODIFIED:20251125T022016Z
UID:10000200-1764093600-1764100800@northwaybrewingco.com
SUMMARY:T'N T Trivia
DESCRIPTION:
URL:https://northwaybrewingco.com/event/tn-t-trivia-12/
CATEGORIES:Cooperstown
END:VEVENT
BEGIN:VEVENT
DTSTART;TZID=America/New_York:20251123T140000
DTEND;TZID=America/New_York:20251123T160000
DTSTAMP:20260420T145833
CREATED:20251015T190933Z
LAST-MODIFIED:20251123T020413Z
UID:10000189-1763906400-1763913600@northwaybrewingco.com
SUMMARY:Bloody Sunday with Northern Ramble
DESCRIPTION:
URL:https://northwaybrewingco.com/event/bloody-sunday-with-northern-ramble/
CATEGORIES:Cooperstown
END:VEVENT
BEGIN:VEVENT
DTSTART;TZID=America/New_York:20251123T130000
DTEND;TZID=America/New_York:20251123T160000
DTSTAMP:20260420T145833
CREATED:20251114T011416Z
LAST-MODIFIED:20251123T030204Z
UID:10000204-1763902800-1763913600@northwaybrewingco.com
SUMMARY:MUSIC: ANDY CHIRGWIN
DESCRIPTION:
URL:https://northwaybrewingco.com/event/music-andy-chirgwin-2/
CATEGORIES:Queensbury
END:VEVENT
BEGIN:VEVENT
DTSTART;TZID=America/New_York:20251122T180000
DTEND;TZID=America/New_York:20251122T200000
DTSTAMP:20260420T145833
CREATED:20251015T190933Z
LAST-MODIFIED:20251122T015015Z
UID:10000188-1763834400-1763841600@northwaybrewingco.com
SUMMARY:Live Music : Steel Rail
DESCRIPTION:
URL:https://northwaybrewingco.com/event/live-music-steel-rail-2/
CATEGORIES:Cooperstown
END:VEVENT
BEGIN:VEVENT
DTSTART;VALUE=DATE:20251121
DTEND;VALUE=DATE:20251122
DTSTAMP:20260420T145833
CREATED:20250820T191903Z
LAST-MODIFIED:20251121T013358Z
UID:10000140-1763683200-1763769599@northwaybrewingco.com
SUMMARY:$5.00 Fridays
DESCRIPTION:
URL:https://northwaybrewingco.com/event/5-00-fridays-12/
CATEGORIES:Cooperstown
END:VEVENT
BEGIN:VEVENT
DTSTART;TZID=America/New_York:20251120T190000
DTEND;TZID=America/New_York:20251120T210000
DTSTAMP:20260420T145833
CREATED:20250820T183736Z
LAST-MODIFIED:20251120T023355Z
UID:10000021-1763665200-1763672400@northwaybrewingco.com
SUMMARY:Trivia Night
DESCRIPTION:
URL:https://northwaybrewingco.com/event/trivia-night-14/
CATEGORIES:Queensbury
END:VEVENT
BEGIN:VEVENT
DTSTART;TZID=America/New_York:20251118T180000
DTEND;TZID=America/New_York:20251118T200000
DTSTAMP:20260420T145833
CREATED:20251030T213354Z
LAST-MODIFIED:20251118T004905Z
UID:10000199-1763488800-1763496000@northwaybrewingco.com
SUMMARY:T'N T Trivia
DESCRIPTION:
URL:https://northwaybrewingco.com/event/tn-t-trivia-11/
CATEGORIES:Cooperstown
END:VEVENT
BEGIN:VEVENT
DTSTART;TZID=America/New_York:20251115T180000
DTEND;TZID=America/New_York:20251115T200000
DTSTAMP:20260420T145833
CREATED:20251015T190933Z
LAST-MODIFIED:20251116T003314Z
UID:10000187-1763229600-1763236800@northwaybrewingco.com
SUMMARY:Live Music : Randy Miritello & Hop City Hellcats
DESCRIPTION:
URL:https://northwaybrewingco.com/event/live-music-randy-miritello-hop-city-hellcats/
CATEGORIES:Cooperstown
END:VEVENT
BEGIN:VEVENT
DTSTART;TZID=America/New_York:20251114T173000
DTEND;TZID=America/New_York:20251114T200000
DTSTAMP:20260420T145833
CREATED:20251114T011415Z
LAST-MODIFIED:20251114T011908Z
UID:10000203-1763141400-1763150400@northwaybrewingco.com
SUMMARY:MUSIC:ROB FLEMING
DESCRIPTION:
URL:https://northwaybrewingco.com/event/musicrob-fleming/
CATEGORIES:Queensbury
END:VEVENT
BEGIN:VEVENT
DTSTART;VALUE=DATE:20251114
DTEND;VALUE=DATE:20251115
DTSTAMP:20260420T145833
CREATED:20250820T191903Z
LAST-MODIFIED:20251114T002015Z
UID:10000139-1763078400-1763164799@northwaybrewingco.com
SUMMARY:$5.00 Fridays
DESCRIPTION:
URL:https://northwaybrewingco.com/event/5-00-fridays-11/
CATEGORIES:Cooperstown
END:VEVENT
BEGIN:VEVENT
DTSTART;TZID=America/New_York:20251113T190000
DTEND;TZID=America/New_York:20251113T210000
DTSTAMP:20260420T145833
CREATED:20250820T183736Z
LAST-MODIFIED:20251114T011908Z
UID:10000020-1763060400-1763067600@northwaybrewingco.com
SUMMARY:Trivia Night
DESCRIPTION:
URL:https://northwaybrewingco.com/event/trivia-night-13/
CATEGORIES:Queensbury
END:VEVENT
BEGIN:VEVENT
DTSTART;TZID=America/New_York:20251111T180000
DTEND;TZID=America/New_York:20251111T200000
DTSTAMP:20260420T145833
CREATED:20251030T213353Z
LAST-MODIFIED:20251111T235004Z
UID:10000198-1762884000-1762891200@northwaybrewingco.com
SUMMARY:T'N T Trivia
DESCRIPTION:
URL:https://northwaybrewingco.com/event/tn-t-trivia-10/
CATEGORIES:Cooperstown
END:VEVENT
BEGIN:VEVENT
DTSTART;TZID=America/New_York:20251109T140000
DTEND;TZID=America/New_York:20251109T160000
DTSTAMP:20260420T145833
CREATED:20251015T190933Z
LAST-MODIFIED:20251108T230206Z
UID:10000186-1762696800-1762704000@northwaybrewingco.com
SUMMARY:Bloody Sunday with Fast Friends
DESCRIPTION:
URL:https://northwaybrewingco.com/event/bloody-sunday-with-fast-friends/
CATEGORIES:Cooperstown
END:VEVENT
BEGIN:VEVENT
DTSTART;TZID=America/New_York:20251108T180000
DTEND;TZID=America/New_York:20251108T200000
DTSTAMP:20260420T145833
CREATED:20251015T190933Z
LAST-MODIFIED:20251108T230206Z
UID:10000185-1762624800-1762632000@northwaybrewingco.com
SUMMARY:Live Music : Grateful Upstate Toodeloo
DESCRIPTION:
URL:https://northwaybrewingco.com/event/live-music-grateful-upstate-toodeloo/
CATEGORIES:Cooperstown
END:VEVENT
BEGIN:VEVENT
DTSTART;TZID=America/New_York:20251108T140000
DTEND;TZID=America/New_York:20251108T200000
DTSTAMP:20260420T145833
CREATED:20250820T183736Z
LAST-MODIFIED:20251109T001702Z
UID:10000019-1762610400-1762632000@northwaybrewingco.com
SUMMARY:BURLYFEST..Music: Caity Gallagher 2:30-5:30
DESCRIPTION:Axe throwing\, Live Music\, Oysters\, Cocktail Specials..\nMr. Burly Beard contest!
URL:https://northwaybrewingco.com/event/burly-brewfest/
LOCATION:Northway Brewing Co
CATEGORIES:Queensbury
END:VEVENT
BEGIN:VEVENT
DTSTART;VALUE=DATE:20251107
DTEND;VALUE=DATE:20251108
DTSTAMP:20260420T145833
CREATED:20250820T191903Z
LAST-MODIFIED:20251107T224942Z
UID:10000138-1762473600-1762559999@northwaybrewingco.com
SUMMARY:$5.00 Fridays
DESCRIPTION:
URL:https://northwaybrewingco.com/event/5-00-fridays-10/
CATEGORIES:Cooperstown
END:VEVENT
BEGIN:VEVENT
DTSTART;TZID=America/New_York:20251106T190000
DTEND;TZID=America/New_York:20251106T210000
DTSTAMP:20260420T145833
CREATED:20250820T183736Z
LAST-MODIFIED:20251107T000440Z
UID:10000018-1762455600-1762462800@northwaybrewingco.com
SUMMARY:Trivia Night
DESCRIPTION:
URL:https://northwaybrewingco.com/event/trivia-night-12/
CATEGORIES:Queensbury
END:VEVENT
BEGIN:VEVENT
DTSTART;TZID=America/New_York:20251104T180000
DTEND;TZID=America/New_York:20251104T200000
DTSTAMP:20260420T145833
CREATED:20251030T213352Z
LAST-MODIFIED:20251104T223229Z
UID:10000197-1762279200-1762286400@northwaybrewingco.com
SUMMARY:T'N T Trivia
DESCRIPTION:
URL:https://northwaybrewingco.com/event/tn-t-trivia-9/
CATEGORIES:Cooperstown
END:VEVENT
BEGIN:VEVENT
DTSTART;TZID=America/New_York:20251102T130000
DTEND;TZID=America/New_York:20251102T160000
DTSTAMP:20260420T145833
CREATED:20251013T183503Z
LAST-MODIFIED:20251101T224842Z
UID:10000180-1762088400-1762099200@northwaybrewingco.com
SUMMARY:Andrew Mirabile
DESCRIPTION:
URL:https://northwaybrewingco.com/event/andrew-mirabile/
CATEGORIES:Queensbury
END:VEVENT
BEGIN:VEVENT
DTSTART;TZID=America/New_York:20251101T180000
DTEND;TZID=America/New_York:20251101T200000
DTSTAMP:20260420T145833
CREATED:20251015T190933Z
LAST-MODIFIED:20251031T214554Z
UID:10000184-1762020000-1762027200@northwaybrewingco.com
SUMMARY:Live Music : Becca Frame & The Tall Boys
DESCRIPTION:
URL:https://northwaybrewingco.com/event/live-music-becca-frame-the-tall-boys/
CATEGORIES:Cooperstown
END:VEVENT
BEGIN:VEVENT
DTSTART;VALUE=DATE:20251031
DTEND;VALUE=DATE:20251101
DTSTAMP:20260420T145833
CREATED:20250820T191903Z
LAST-MODIFIED:20251031T214553Z
UID:10000137-1761868800-1761955199@northwaybrewingco.com
SUMMARY:$5.00 Fridays
DESCRIPTION:
URL:https://northwaybrewingco.com/event/5-00-fridays-9/
CATEGORIES:Cooperstown
END:VEVENT
BEGIN:VEVENT
DTSTART;TZID=America/New_York:20251030T190000
DTEND;TZID=America/New_York:20251030T210000
DTSTAMP:20260420T145833
CREATED:20250820T183736Z
LAST-MODIFIED:20251030T221555Z
UID:10000017-1761850800-1761858000@northwaybrewingco.com
SUMMARY:Trivia Night
DESCRIPTION:
URL:https://northwaybrewingco.com/event/trivia-night-11/
CATEGORIES:Queensbury
END:VEVENT
BEGIN:VEVENT
DTSTART;TZID=America/New_York:20251028T180000
DTEND;TZID=America/New_York:20251028T200000
DTSTAMP:20260420T145833
CREATED:20250820T191902Z
LAST-MODIFIED:20251028T210210Z
UID:10000136-1761674400-1761681600@northwaybrewingco.com
SUMMARY:T'N T Trivia
DESCRIPTION:
URL:https://northwaybrewingco.com/event/tn-t-trivia-8/
CATEGORIES:Cooperstown
END:VEVENT
BEGIN:VEVENT
DTSTART;TZID=America/New_York:20251026T140000
DTEND;TZID=America/New_York:20251026T160000
DTSTAMP:20260420T145833
CREATED:20250909T235547Z
LAST-MODIFIED:20251026T194249Z
UID:10000173-1761487200-1761494400@northwaybrewingco.com
SUMMARY:Bloody Sunday with Poverty Hill
DESCRIPTION:
URL:https://northwaybrewingco.com/event/bloody-sunday-with-poverty-hill/
CATEGORIES:Cooperstown
END:VEVENT
BEGIN:VEVENT
DTSTART;TZID=America/New_York:20251025T180000
DTEND;TZID=America/New_York:20251025T200000
DTSTAMP:20260420T145833
CREATED:20251015T190932Z
LAST-MODIFIED:20251024T185357Z
UID:10000183-1761415200-1761422400@northwaybrewingco.com
SUMMARY:Live Music : Barnyard Saints
DESCRIPTION:
URL:https://northwaybrewingco.com/event/live-music-barnyard-saints/
CATEGORIES:Cooperstown
END:VEVENT
END:VCALENDAR