BEGIN:VCALENDAR
VERSION:2.0
PRODID:-//Northway Brewing Co. - ECPv6.15.13//NONSGML v1.0//EN
CALSCALE:GREGORIAN
METHOD:PUBLISH
X-WR-CALNAME:Northway Brewing Co.
X-ORIGINAL-URL:https://northwaybrewingco.com
X-WR-CALDESC:Events for Northway Brewing Co.
REFRESH-INTERVAL;VALUE=DURATION:PT1H
X-Robots-Tag:noindex
X-PUBLISHED-TTL:PT1H
BEGIN:VTIMEZONE
TZID:America/New_York
BEGIN:DAYLIGHT
TZOFFSETFROM:-0500
TZOFFSETTO:-0400
TZNAME:EDT
DTSTART:20240310T070000
END:DAYLIGHT
BEGIN:STANDARD
TZOFFSETFROM:-0400
TZOFFSETTO:-0500
TZNAME:EST
DTSTART:20241103T060000
END:STANDARD
BEGIN:DAYLIGHT
TZOFFSETFROM:-0500
TZOFFSETTO:-0400
TZNAME:EDT
DTSTART:20250309T070000
END:DAYLIGHT
BEGIN:STANDARD
TZOFFSETFROM:-0400
TZOFFSETTO:-0500
TZNAME:EST
DTSTART:20251102T060000
END:STANDARD
BEGIN:DAYLIGHT
TZOFFSETFROM:-0500
TZOFFSETTO:-0400
TZNAME:EDT
DTSTART:20260308T070000
END:DAYLIGHT
BEGIN:STANDARD
TZOFFSETFROM:-0400
TZOFFSETTO:-0500
TZNAME:EST
DTSTART:20261101T060000
END:STANDARD
END:VTIMEZONE
BEGIN:VEVENT
DTSTART;TZID=America/New_York:20251014T180000
DTEND;TZID=America/New_York:20251014T200000
DTSTAMP:20260420T132634
CREATED:20250820T191902Z
LAST-MODIFIED:20251014T190420Z
UID:10000132-1760464800-1760472000@northwaybrewingco.com
SUMMARY:T'N T Trivia
DESCRIPTION:
URL:https://northwaybrewingco.com/event/tn-t-trivia-6/
CATEGORIES:Cooperstown
END:VEVENT
BEGIN:VEVENT
DTSTART;TZID=America/New_York:20251012T140000
DTEND;TZID=America/New_York:20251012T160000
DTSTAMP:20260420T132634
CREATED:20250909T235546Z
LAST-MODIFIED:20251012T182227Z
UID:10000172-1760277600-1760284800@northwaybrewingco.com
SUMMARY:Bloody Sunday with Nate Gross
DESCRIPTION:
URL:https://northwaybrewingco.com/event/bloody-sunday-with-nate-gross/
CATEGORIES:Cooperstown
END:VEVENT
BEGIN:VEVENT
DTSTART;VALUE=DATE:20251010
DTEND;VALUE=DATE:20251011
DTSTAMP:20260420T132634
CREATED:20250820T191902Z
LAST-MODIFIED:20251010T180040Z
UID:10000131-1760054400-1760140799@northwaybrewingco.com
SUMMARY:$5.00 Fridays
DESCRIPTION:
URL:https://northwaybrewingco.com/event/5-00-fridays-6/
CATEGORIES:Cooperstown
END:VEVENT
BEGIN:VEVENT
DTSTART;TZID=America/New_York:20251009T190000
DTEND;TZID=America/New_York:20251009T210000
DTSTAMP:20260420T132634
CREATED:20250820T183736Z
LAST-MODIFIED:20251009T174841Z
UID:10000014-1760036400-1760043600@northwaybrewingco.com
SUMMARY:Trivia Night
DESCRIPTION:
URL:https://northwaybrewingco.com/event/trivia-night-8/
CATEGORIES:Queensbury
END:VEVENT
BEGIN:VEVENT
DTSTART;TZID=America/New_York:20251007T180000
DTEND;TZID=America/New_York:20251007T200000
DTSTAMP:20260420T132634
CREATED:20250820T191902Z
LAST-MODIFIED:20251007T052243Z
UID:10000130-1759860000-1759867200@northwaybrewingco.com
SUMMARY:T'N T Trivia
DESCRIPTION:
URL:https://northwaybrewingco.com/event/tn-t-trivia-5/
CATEGORIES:Cooperstown
END:VEVENT
BEGIN:VEVENT
DTSTART;TZID=America/New_York:20251004T180000
DTEND;TZID=America/New_York:20251004T200000
DTSTAMP:20260420T132634
CREATED:20250820T191902Z
LAST-MODIFIED:20251004T050158Z
UID:10000129-1759600800-1759608000@northwaybrewingco.com
SUMMARY:Live Music : The Mopar Cams
DESCRIPTION:
URL:https://northwaybrewingco.com/event/live-music-the-mopar-cams/
CATEGORIES:Cooperstown
END:VEVENT
BEGIN:VEVENT
DTSTART;VALUE=DATE:20251003
DTEND;VALUE=DATE:20251004
DTSTAMP:20260420T132634
CREATED:20250820T191901Z
LAST-MODIFIED:20251003T044446Z
UID:10000128-1759449600-1759535999@northwaybrewingco.com
SUMMARY:$5.00 Fridays
DESCRIPTION:
URL:https://northwaybrewingco.com/event/5-00-fridays-5/
CATEGORIES:Cooperstown
END:VEVENT
BEGIN:VEVENT
DTSTART;TZID=America/New_York:20251002T190000
DTEND;TZID=America/New_York:20251002T210000
DTSTAMP:20260420T132634
CREATED:20250820T183735Z
LAST-MODIFIED:20251002T122636Z
UID:10000013-1759431600-1759438800@northwaybrewingco.com
SUMMARY:Trivia Night
DESCRIPTION:
URL:https://northwaybrewingco.com/event/trivia-night-7/
CATEGORIES:Queensbury
END:VEVENT
BEGIN:VEVENT
DTSTART;TZID=America/New_York:20250930T180000
DTEND;TZID=America/New_York:20250930T200000
DTSTAMP:20260420T132634
CREATED:20250820T191901Z
LAST-MODIFIED:20250930T042432Z
UID:10000127-1759255200-1759262400@northwaybrewingco.com
SUMMARY:T'N T Trivia
DESCRIPTION:
URL:https://northwaybrewingco.com/event/tn-t-trivia-4/
CATEGORIES:Cooperstown
END:VEVENT
BEGIN:VEVENT
DTSTART;TZID=America/New_York:20250928T140000
DTEND;TZID=America/New_York:20250928T160000
DTSTAMP:20260420T132634
CREATED:20250909T235546Z
LAST-MODIFIED:20250928T040132Z
UID:10000171-1759068000-1759075200@northwaybrewingco.com
SUMMARY:Bloody Sunday with Fair Weather Blues Band
DESCRIPTION:
URL:https://northwaybrewingco.com/event/bloody-sunday-with-fair-weather-blues-band/
CATEGORIES:Cooperstown
END:VEVENT
BEGIN:VEVENT
DTSTART;TZID=America/New_York:20250927T180000
DTEND;TZID=America/New_York:20250927T200000
DTSTAMP:20260420T132634
CREATED:20250820T191901Z
LAST-MODIFIED:20250927T035232Z
UID:10000126-1758996000-1759003200@northwaybrewingco.com
SUMMARY:Live Music : Steel Rail
DESCRIPTION:
URL:https://northwaybrewingco.com/event/live-music-steel-rail/
CATEGORIES:Cooperstown
END:VEVENT
BEGIN:VEVENT
DTSTART;VALUE=DATE:20250926
DTEND;VALUE=DATE:20250927
DTSTAMP:20260420T132634
CREATED:20250820T191901Z
LAST-MODIFIED:20250926T033539Z
UID:10000125-1758844800-1758931199@northwaybrewingco.com
SUMMARY:$5.00 Fridays
DESCRIPTION:
URL:https://northwaybrewingco.com/event/5-00-fridays-4/
CATEGORIES:Cooperstown
END:VEVENT
BEGIN:VEVENT
DTSTART;TZID=America/New_York:20250925T190000
DTEND;TZID=America/New_York:20250925T210000
DTSTAMP:20260420T132634
CREATED:20250820T183735Z
LAST-MODIFIED:20250925T112045Z
UID:10000012-1758826800-1758834000@northwaybrewingco.com
SUMMARY:Trivia Night
DESCRIPTION:
URL:https://northwaybrewingco.com/event/trivia-night-6/
CATEGORIES:Queensbury
END:VEVENT
BEGIN:VEVENT
DTSTART;TZID=America/New_York:20250923T180000
DTEND;TZID=America/New_York:20250923T200000
DTSTAMP:20260420T132634
CREATED:20250820T191901Z
LAST-MODIFIED:20250923T030741Z
UID:10000124-1758650400-1758657600@northwaybrewingco.com
SUMMARY:T'N T Trivia
DESCRIPTION:
URL:https://northwaybrewingco.com/event/tn-t-trivia-3/
CATEGORIES:Cooperstown
END:VEVENT
BEGIN:VEVENT
DTSTART;TZID=America/New_York:20250922T170000
DTEND;TZID=America/New_York:20250922T200000
DTSTAMP:20260420T132634
CREATED:20250820T183735Z
LAST-MODIFIED:20250922T101716Z
UID:10000011-1758560400-1758571200@northwaybrewingco.com
SUMMARY:MUSIC: MICHAEL LASHOMB
DESCRIPTION:
URL:https://northwaybrewingco.com/event/music-michael-lashomb/
CATEGORIES:Queensbury
END:VEVENT
BEGIN:VEVENT
DTSTART;TZID=America/New_York:20250921T130000
DTEND;TZID=America/New_York:20250921T160000
DTSTAMP:20260420T132634
CREATED:20250820T183732Z
LAST-MODIFIED:20250921T101009Z
UID:10000010-1758459600-1758470400@northwaybrewingco.com
SUMMARY:MUSIC: CAITY GALLAGHER
DESCRIPTION:
URL:https://northwaybrewingco.com/event/music-caity-gallagher-2/
CATEGORIES:Queensbury
END:VEVENT
BEGIN:VEVENT
DTSTART;TZID=America/New_York:20250920T180000
DTEND;TZID=America/New_York:20250920T200000
DTSTAMP:20260420T132634
CREATED:20250820T191901Z
LAST-MODIFIED:20250920T022953Z
UID:10000123-1758391200-1758398400@northwaybrewingco.com
SUMMARY:Live Music : Scattered Fluries
DESCRIPTION:
URL:https://northwaybrewingco.com/event/live-music-scattered-fluries/
CATEGORIES:Cooperstown
END:VEVENT
BEGIN:VEVENT
DTSTART;VALUE=DATE:20250919
DTEND;VALUE=DATE:20250920
DTSTAMP:20260420T132634
CREATED:20250820T191901Z
LAST-MODIFIED:20250919T022141Z
UID:10000122-1758240000-1758326399@northwaybrewingco.com
SUMMARY:$5.00 Fridays
DESCRIPTION:
URL:https://northwaybrewingco.com/event/5-00-fridays-3/
CATEGORIES:Cooperstown
END:VEVENT
BEGIN:VEVENT
DTSTART;TZID=America/New_York:20250918T190000
DTEND;TZID=America/New_York:20250918T210000
DTSTAMP:20260420T132634
CREATED:20250820T183732Z
LAST-MODIFIED:20250918T045801Z
UID:10000009-1758222000-1758229200@northwaybrewingco.com
SUMMARY:Trivia Night
DESCRIPTION:
URL:https://northwaybrewingco.com/event/trivia-night-5/
CATEGORIES:Queensbury
END:VEVENT
BEGIN:VEVENT
DTSTART;TZID=America/New_York:20250916T180000
DTEND;TZID=America/New_York:20250916T200000
DTSTAMP:20260420T132634
CREATED:20250820T191900Z
LAST-MODIFIED:20250916T020904Z
UID:10000121-1758045600-1758052800@northwaybrewingco.com
SUMMARY:T'N T Trivia
DESCRIPTION:
URL:https://northwaybrewingco.com/event/tn-t-trivia-2/
CATEGORIES:Cooperstown
END:VEVENT
BEGIN:VEVENT
DTSTART;TZID=America/New_York:20250914T140000
DTEND;TZID=America/New_York:20250914T160000
DTSTAMP:20260420T132634
CREATED:20250909T235545Z
LAST-MODIFIED:20250914T015306Z
UID:10000170-1757858400-1757865600@northwaybrewingco.com
SUMMARY:Bloody Sunday with The Jupiters
DESCRIPTION:
URL:https://northwaybrewingco.com/event/bloody-sunday-with-the-jupiters/
CATEGORIES:Cooperstown
END:VEVENT
BEGIN:VEVENT
DTSTART;TZID=America/New_York:20250913T180000
DTEND;TZID=America/New_York:20250913T200000
DTSTAMP:20260420T132634
CREATED:20250820T191900Z
LAST-MODIFIED:20250912T001900Z
UID:10000120-1757786400-1757793600@northwaybrewingco.com
SUMMARY:Live Music : Fast Friends
DESCRIPTION:
URL:https://northwaybrewingco.com/event/live-music-fast-friends/
CATEGORIES:Cooperstown
END:VEVENT
BEGIN:VEVENT
DTSTART;TZID=America/New_York:20250912T173000
DTEND;TZID=America/New_York:20250912T200000
DTSTAMP:20260420T132634
CREATED:20250820T183732Z
LAST-MODIFIED:20250912T043104Z
UID:10000008-1757698200-1757707200@northwaybrewingco.com
SUMMARY:MUSIC: BRENDAN DAILEY
DESCRIPTION:
URL:https://northwaybrewingco.com/event/music-brendan-dailey/
CATEGORIES:Queensbury
END:VEVENT
BEGIN:VEVENT
DTSTART;VALUE=DATE:20250912
DTEND;VALUE=DATE:20250913
DTSTAMP:20260420T132634
CREATED:20250820T191900Z
LAST-MODIFIED:20250912T001858Z
UID:10000119-1757635200-1757721599@northwaybrewingco.com
SUMMARY:$5.00 Fridays
DESCRIPTION:
URL:https://northwaybrewingco.com/event/5-00-fridays-2/
CATEGORIES:Cooperstown
END:VEVENT
BEGIN:VEVENT
DTSTART;TZID=America/New_York:20250911T190000
DTEND;TZID=America/New_York:20250911T210000
DTSTAMP:20260420T132634
CREATED:20250820T183732Z
LAST-MODIFIED:20250911T042044Z
UID:10000007-1757617200-1757624400@northwaybrewingco.com
SUMMARY:Trivia Night
DESCRIPTION:
URL:https://northwaybrewingco.com/event/trivia-night-4/
CATEGORIES:Queensbury
END:VEVENT
BEGIN:VEVENT
DTSTART;TZID=America/New_York:20250909T180000
DTEND;TZID=America/New_York:20250909T200000
DTSTAMP:20260420T132634
CREATED:20250820T191900Z
LAST-MODIFIED:20250909T235543Z
UID:10000118-1757440800-1757448000@northwaybrewingco.com
SUMMARY:T'N T Trivia
DESCRIPTION:
URL:https://northwaybrewingco.com/event/tn-t-trivia/
CATEGORIES:Cooperstown
END:VEVENT
BEGIN:VEVENT
DTSTART;TZID=America/New_York:20250906T180000
DTEND;TZID=America/New_York:20250906T200000
DTSTAMP:20260420T132634
CREATED:20250820T191900Z
LAST-MODIFIED:20250906T231632Z
UID:10000117-1757181600-1757188800@northwaybrewingco.com
SUMMARY:Live Music : Drifting from Shore
DESCRIPTION:
URL:https://northwaybrewingco.com/event/live-music-drifting-from-shore/
CATEGORIES:Cooperstown
END:VEVENT
BEGIN:VEVENT
DTSTART;TZID=America/New_York:20250905T173000
DTEND;TZID=America/New_York:20250905T200000
DTSTAMP:20260420T132634
CREATED:20250820T183731Z
LAST-MODIFIED:20250905T033207Z
UID:10000006-1757093400-1757102400@northwaybrewingco.com
SUMMARY:MUSIC: ANDY CHIRGWIN
DESCRIPTION:
URL:https://northwaybrewingco.com/event/music-andy-chirgwin/
CATEGORIES:Queensbury
END:VEVENT
BEGIN:VEVENT
DTSTART;VALUE=DATE:20250905
DTEND;VALUE=DATE:20250906
DTSTAMP:20260420T132634
CREATED:20250820T191900Z
LAST-MODIFIED:20250905T225811Z
UID:10000116-1757030400-1757116799@northwaybrewingco.com
SUMMARY:$5.00 Fridays
DESCRIPTION:
URL:https://northwaybrewingco.com/event/5-00-fridays/
CATEGORIES:Cooperstown
END:VEVENT
BEGIN:VEVENT
DTSTART;TZID=America/New_York:20250904T190000
DTEND;TZID=America/New_York:20250904T210000
DTSTAMP:20260420T132634
CREATED:20250820T183731Z
LAST-MODIFIED:20250904T033039Z
UID:10000005-1757012400-1757019600@northwaybrewingco.com
SUMMARY:Trivia Night
DESCRIPTION:
URL:https://northwaybrewingco.com/event/trivia-night-3/
CATEGORIES:Queensbury
END:VEVENT
END:VCALENDAR