BEGIN:VCALENDAR
VERSION:2.0
PRODID:-//Northway Brewing Co. - ECPv6.15.13//NONSGML v1.0//EN
CALSCALE:GREGORIAN
METHOD:PUBLISH
X-WR-CALNAME:Northway Brewing Co.
X-ORIGINAL-URL:https://northwaybrewingco.com
X-WR-CALDESC:Events for Northway Brewing Co.
REFRESH-INTERVAL;VALUE=DURATION:PT1H
X-Robots-Tag:noindex
X-PUBLISHED-TTL:PT1H
BEGIN:VTIMEZONE
TZID:America/New_York
BEGIN:DAYLIGHT
TZOFFSETFROM:-0500
TZOFFSETTO:-0400
TZNAME:EDT
DTSTART:20250309T070000
END:DAYLIGHT
BEGIN:STANDARD
TZOFFSETFROM:-0400
TZOFFSETTO:-0500
TZNAME:EST
DTSTART:20251102T060000
END:STANDARD
BEGIN:DAYLIGHT
TZOFFSETFROM:-0500
TZOFFSETTO:-0400
TZNAME:EDT
DTSTART:20260308T070000
END:DAYLIGHT
BEGIN:STANDARD
TZOFFSETFROM:-0400
TZOFFSETTO:-0500
TZNAME:EST
DTSTART:20261101T060000
END:STANDARD
BEGIN:DAYLIGHT
TZOFFSETFROM:-0500
TZOFFSETTO:-0400
TZNAME:EDT
DTSTART:20270314T070000
END:DAYLIGHT
BEGIN:STANDARD
TZOFFSETFROM:-0400
TZOFFSETTO:-0500
TZNAME:EST
DTSTART:20271107T060000
END:STANDARD
BEGIN:DAYLIGHT
TZOFFSETFROM:-0500
TZOFFSETTO:-0400
TZNAME:EDT
DTSTART:20280312T070000
END:DAYLIGHT
BEGIN:STANDARD
TZOFFSETFROM:-0400
TZOFFSETTO:-0500
TZNAME:EST
DTSTART:20281105T060000
END:STANDARD
END:VTIMEZONE
BEGIN:VEVENT
DTSTART;TZID=America/New_York:20261022T190000
DTEND;TZID=America/New_York:20261022T210000
DTSTAMP:20260420T145704
CREATED:20250820T183743Z
LAST-MODIFIED:20260420T091947Z
UID:10000069-1792695600-1792702800@northwaybrewingco.com
SUMMARY:Trivia Night
DESCRIPTION:
URL:https://northwaybrewingco.com/event/trivia-night-62/
CATEGORIES:Queensbury
END:VEVENT
BEGIN:VEVENT
DTSTART;TZID=America/New_York:20261029T190000
DTEND;TZID=America/New_York:20261029T210000
DTSTAMP:20260420T145704
CREATED:20250820T183743Z
LAST-MODIFIED:20260420T091947Z
UID:10000070-1793300400-1793307600@northwaybrewingco.com
SUMMARY:Trivia Night
DESCRIPTION:
URL:https://northwaybrewingco.com/event/trivia-night-63/
CATEGORIES:Queensbury
END:VEVENT
BEGIN:VEVENT
DTSTART;TZID=America/New_York:20261105T190000
DTEND;TZID=America/New_York:20261105T210000
DTSTAMP:20260420T145704
CREATED:20250820T183743Z
LAST-MODIFIED:20260420T091948Z
UID:10000071-1793905200-1793912400@northwaybrewingco.com
SUMMARY:Trivia Night
DESCRIPTION:
URL:https://northwaybrewingco.com/event/trivia-night-64/
CATEGORIES:Queensbury
END:VEVENT
BEGIN:VEVENT
DTSTART;TZID=America/New_York:20261112T190000
DTEND;TZID=America/New_York:20261112T210000
DTSTAMP:20260420T145704
CREATED:20250820T183744Z
LAST-MODIFIED:20260420T091948Z
UID:10000072-1794510000-1794517200@northwaybrewingco.com
SUMMARY:Trivia Night
DESCRIPTION:
URL:https://northwaybrewingco.com/event/trivia-night-65/
CATEGORIES:Queensbury
END:VEVENT
BEGIN:VEVENT
DTSTART;TZID=America/New_York:20261119T190000
DTEND;TZID=America/New_York:20261119T210000
DTSTAMP:20260420T145704
CREATED:20250820T183744Z
LAST-MODIFIED:20260420T091948Z
UID:10000073-1795114800-1795122000@northwaybrewingco.com
SUMMARY:Trivia Night
DESCRIPTION:
URL:https://northwaybrewingco.com/event/trivia-night-66/
CATEGORIES:Queensbury
END:VEVENT
BEGIN:VEVENT
DTSTART;TZID=America/New_York:20261126T190000
DTEND;TZID=America/New_York:20261126T210000
DTSTAMP:20260420T145704
CREATED:20250820T183744Z
LAST-MODIFIED:20260420T091948Z
UID:10000074-1795719600-1795726800@northwaybrewingco.com
SUMMARY:Trivia Night
DESCRIPTION:
URL:https://northwaybrewingco.com/event/trivia-night-67/
CATEGORIES:Queensbury
END:VEVENT
BEGIN:VEVENT
DTSTART;TZID=America/New_York:20261203T190000
DTEND;TZID=America/New_York:20261203T210000
DTSTAMP:20260420T145704
CREATED:20250820T183744Z
LAST-MODIFIED:20260420T091948Z
UID:10000075-1796324400-1796331600@northwaybrewingco.com
SUMMARY:Trivia Night
DESCRIPTION:
URL:https://northwaybrewingco.com/event/trivia-night-68/
CATEGORIES:Queensbury
END:VEVENT
BEGIN:VEVENT
DTSTART;TZID=America/New_York:20261210T190000
DTEND;TZID=America/New_York:20261210T210000
DTSTAMP:20260420T145704
CREATED:20250820T183744Z
LAST-MODIFIED:20260420T091949Z
UID:10000076-1796929200-1796936400@northwaybrewingco.com
SUMMARY:Trivia Night
DESCRIPTION:
URL:https://northwaybrewingco.com/event/trivia-night-69/
CATEGORIES:Queensbury
END:VEVENT
BEGIN:VEVENT
DTSTART;TZID=America/New_York:20261217T190000
DTEND;TZID=America/New_York:20261217T210000
DTSTAMP:20260420T145704
CREATED:20250820T183745Z
LAST-MODIFIED:20260420T091949Z
UID:10000077-1797534000-1797541200@northwaybrewingco.com
SUMMARY:Trivia Night
DESCRIPTION:
URL:https://northwaybrewingco.com/event/trivia-night-70/
CATEGORIES:Queensbury
END:VEVENT
BEGIN:VEVENT
DTSTART;TZID=America/New_York:20261224T190000
DTEND;TZID=America/New_York:20261224T210000
DTSTAMP:20260420T145704
CREATED:20250820T183745Z
LAST-MODIFIED:20260420T091949Z
UID:10000078-1798138800-1798146000@northwaybrewingco.com
SUMMARY:Trivia Night
DESCRIPTION:
URL:https://northwaybrewingco.com/event/trivia-night-71/
CATEGORIES:Queensbury
END:VEVENT
BEGIN:VEVENT
DTSTART;TZID=America/New_York:20261231T190000
DTEND;TZID=America/New_York:20261231T210000
DTSTAMP:20260420T145704
CREATED:20250820T183745Z
LAST-MODIFIED:20260420T091949Z
UID:10000079-1798743600-1798750800@northwaybrewingco.com
SUMMARY:Trivia Night
DESCRIPTION:
URL:https://northwaybrewingco.com/event/trivia-night-72/
CATEGORIES:Queensbury
END:VEVENT
BEGIN:VEVENT
DTSTART;TZID=America/New_York:20270107T190000
DTEND;TZID=America/New_York:20270107T210000
DTSTAMP:20260420T145704
CREATED:20250820T183745Z
LAST-MODIFIED:20260420T091949Z
UID:10000080-1799348400-1799355600@northwaybrewingco.com
SUMMARY:Trivia Night
DESCRIPTION:
URL:https://northwaybrewingco.com/event/trivia-night-73/
CATEGORIES:Queensbury
END:VEVENT
BEGIN:VEVENT
DTSTART;TZID=America/New_York:20270114T190000
DTEND;TZID=America/New_York:20270114T210000
DTSTAMP:20260420T145704
CREATED:20250820T183745Z
LAST-MODIFIED:20260420T091949Z
UID:10000081-1799953200-1799960400@northwaybrewingco.com
SUMMARY:Trivia Night
DESCRIPTION:
URL:https://northwaybrewingco.com/event/trivia-night-74/
CATEGORIES:Queensbury
END:VEVENT
BEGIN:VEVENT
DTSTART;TZID=America/New_York:20270121T190000
DTEND;TZID=America/New_York:20270121T210000
DTSTAMP:20260420T145704
CREATED:20250820T183745Z
LAST-MODIFIED:20260420T091950Z
UID:10000082-1800558000-1800565200@northwaybrewingco.com
SUMMARY:Trivia Night
DESCRIPTION:
URL:https://northwaybrewingco.com/event/trivia-night-75/
CATEGORIES:Queensbury
END:VEVENT
BEGIN:VEVENT
DTSTART;TZID=America/New_York:20270128T190000
DTEND;TZID=America/New_York:20270128T210000
DTSTAMP:20260420T145704
CREATED:20250820T183746Z
LAST-MODIFIED:20260420T091950Z
UID:10000083-1801162800-1801170000@northwaybrewingco.com
SUMMARY:Trivia Night
DESCRIPTION:
URL:https://northwaybrewingco.com/event/trivia-night-76/
CATEGORIES:Queensbury
END:VEVENT
BEGIN:VEVENT
DTSTART;TZID=America/New_York:20270204T190000
DTEND;TZID=America/New_York:20270204T210000
DTSTAMP:20260420T145704
CREATED:20250820T183746Z
LAST-MODIFIED:20260420T091950Z
UID:10000084-1801767600-1801774800@northwaybrewingco.com
SUMMARY:Trivia Night
DESCRIPTION:
URL:https://northwaybrewingco.com/event/trivia-night-77/
CATEGORIES:Queensbury
END:VEVENT
BEGIN:VEVENT
DTSTART;TZID=America/New_York:20270211T190000
DTEND;TZID=America/New_York:20270211T210000
DTSTAMP:20260420T145704
CREATED:20250820T183746Z
LAST-MODIFIED:20260420T091950Z
UID:10000085-1802372400-1802379600@northwaybrewingco.com
SUMMARY:Trivia Night
DESCRIPTION:
URL:https://northwaybrewingco.com/event/trivia-night-78/
CATEGORIES:Queensbury
END:VEVENT
BEGIN:VEVENT
DTSTART;TZID=America/New_York:20270218T190000
DTEND;TZID=America/New_York:20270218T210000
DTSTAMP:20260420T145704
CREATED:20250820T183746Z
LAST-MODIFIED:20260420T091950Z
UID:10000086-1802977200-1802984400@northwaybrewingco.com
SUMMARY:Trivia Night
DESCRIPTION:
URL:https://northwaybrewingco.com/event/trivia-night-79/
CATEGORIES:Queensbury
END:VEVENT
BEGIN:VEVENT
DTSTART;TZID=America/New_York:20270225T190000
DTEND;TZID=America/New_York:20270225T210000
DTSTAMP:20260420T145704
CREATED:20250820T183746Z
LAST-MODIFIED:20260420T091951Z
UID:10000087-1803582000-1803589200@northwaybrewingco.com
SUMMARY:Trivia Night
DESCRIPTION:
URL:https://northwaybrewingco.com/event/trivia-night-80/
CATEGORIES:Queensbury
END:VEVENT
BEGIN:VEVENT
DTSTART;TZID=America/New_York:20270304T190000
DTEND;TZID=America/New_York:20270304T210000
DTSTAMP:20260420T145704
CREATED:20250820T183746Z
LAST-MODIFIED:20260420T091951Z
UID:10000088-1804186800-1804194000@northwaybrewingco.com
SUMMARY:Trivia Night
DESCRIPTION:
URL:https://northwaybrewingco.com/event/trivia-night-81/
CATEGORIES:Queensbury
END:VEVENT
BEGIN:VEVENT
DTSTART;TZID=America/New_York:20270311T190000
DTEND;TZID=America/New_York:20270311T210000
DTSTAMP:20260420T145704
CREATED:20250820T183747Z
LAST-MODIFIED:20260420T091951Z
UID:10000089-1804791600-1804798800@northwaybrewingco.com
SUMMARY:Trivia Night
DESCRIPTION:
URL:https://northwaybrewingco.com/event/trivia-night-82/
CATEGORIES:Queensbury
END:VEVENT
BEGIN:VEVENT
DTSTART;TZID=America/New_York:20270318T190000
DTEND;TZID=America/New_York:20270318T210000
DTSTAMP:20260420T145704
CREATED:20250820T183747Z
LAST-MODIFIED:20260420T091951Z
UID:10000090-1805396400-1805403600@northwaybrewingco.com
SUMMARY:Trivia Night
DESCRIPTION:
URL:https://northwaybrewingco.com/event/trivia-night-83/
CATEGORIES:Queensbury
END:VEVENT
BEGIN:VEVENT
DTSTART;TZID=America/New_York:20270325T190000
DTEND;TZID=America/New_York:20270325T210000
DTSTAMP:20260420T145704
CREATED:20250820T183747Z
LAST-MODIFIED:20260420T091951Z
UID:10000091-1806001200-1806008400@northwaybrewingco.com
SUMMARY:Trivia Night
DESCRIPTION:
URL:https://northwaybrewingco.com/event/trivia-night-84/
CATEGORIES:Queensbury
END:VEVENT
BEGIN:VEVENT
DTSTART;TZID=America/New_York:20270401T190000
DTEND;TZID=America/New_York:20270401T210000
DTSTAMP:20260420T145704
CREATED:20250820T183747Z
LAST-MODIFIED:20260420T091952Z
UID:10000092-1806606000-1806613200@northwaybrewingco.com
SUMMARY:Trivia Night
DESCRIPTION:
URL:https://northwaybrewingco.com/event/trivia-night-85/
CATEGORIES:Queensbury
END:VEVENT
BEGIN:VEVENT
DTSTART;TZID=America/New_York:20270408T190000
DTEND;TZID=America/New_York:20270408T210000
DTSTAMP:20260420T145704
CREATED:20250820T183747Z
LAST-MODIFIED:20260420T091952Z
UID:10000093-1807210800-1807218000@northwaybrewingco.com
SUMMARY:Trivia Night
DESCRIPTION:
URL:https://northwaybrewingco.com/event/trivia-night-86/
CATEGORIES:Queensbury
END:VEVENT
BEGIN:VEVENT
DTSTART;TZID=America/New_York:20270415T190000
DTEND;TZID=America/New_York:20270415T210000
DTSTAMP:20260420T145704
CREATED:20250820T183748Z
LAST-MODIFIED:20260420T091952Z
UID:10000094-1807815600-1807822800@northwaybrewingco.com
SUMMARY:Trivia Night
DESCRIPTION:
URL:https://northwaybrewingco.com/event/trivia-night-87/
CATEGORIES:Queensbury
END:VEVENT
BEGIN:VEVENT
DTSTART;TZID=America/New_York:20270422T190000
DTEND;TZID=America/New_York:20270422T210000
DTSTAMP:20260420T145704
CREATED:20250820T183748Z
LAST-MODIFIED:20260420T091952Z
UID:10000095-1808420400-1808427600@northwaybrewingco.com
SUMMARY:Trivia Night
DESCRIPTION:
URL:https://northwaybrewingco.com/event/trivia-night-88/
CATEGORIES:Queensbury
END:VEVENT
BEGIN:VEVENT
DTSTART;TZID=America/New_York:20270429T190000
DTEND;TZID=America/New_York:20270429T210000
DTSTAMP:20260420T145704
CREATED:20250820T183748Z
LAST-MODIFIED:20260420T091952Z
UID:10000096-1809025200-1809032400@northwaybrewingco.com
SUMMARY:Trivia Night
DESCRIPTION:
URL:https://northwaybrewingco.com/event/trivia-night-89/
CATEGORIES:Queensbury
END:VEVENT
BEGIN:VEVENT
DTSTART;TZID=America/New_York:20270506T190000
DTEND;TZID=America/New_York:20270506T210000
DTSTAMP:20260420T145704
CREATED:20250820T183748Z
LAST-MODIFIED:20260420T091953Z
UID:10000097-1809630000-1809637200@northwaybrewingco.com
SUMMARY:Trivia Night
DESCRIPTION:
URL:https://northwaybrewingco.com/event/trivia-night-90/
CATEGORIES:Queensbury
END:VEVENT
BEGIN:VEVENT
DTSTART;TZID=America/New_York:20270513T190000
DTEND;TZID=America/New_York:20270513T210000
DTSTAMP:20260420T145704
CREATED:20250820T183748Z
LAST-MODIFIED:20260420T091953Z
UID:10000098-1810234800-1810242000@northwaybrewingco.com
SUMMARY:Trivia Night
DESCRIPTION:
URL:https://northwaybrewingco.com/event/trivia-night-91/
CATEGORIES:Queensbury
END:VEVENT
END:VCALENDAR