BEGIN:VCALENDAR
VERSION:2.0
PRODID:-//Northway Brewing Co. - ECPv6.15.13//NONSGML v1.0//EN
CALSCALE:GREGORIAN
METHOD:PUBLISH
X-WR-CALNAME:Northway Brewing Co.
X-ORIGINAL-URL:https://northwaybrewingco.com
X-WR-CALDESC:Events for Northway Brewing Co.
REFRESH-INTERVAL;VALUE=DURATION:PT1H
X-Robots-Tag:noindex
X-PUBLISHED-TTL:PT1H
BEGIN:VTIMEZONE
TZID:America/New_York
BEGIN:DAYLIGHT
TZOFFSETFROM:-0500
TZOFFSETTO:-0400
TZNAME:EDT
DTSTART:20250309T070000
END:DAYLIGHT
BEGIN:STANDARD
TZOFFSETFROM:-0400
TZOFFSETTO:-0500
TZNAME:EST
DTSTART:20251102T060000
END:STANDARD
BEGIN:DAYLIGHT
TZOFFSETFROM:-0500
TZOFFSETTO:-0400
TZNAME:EDT
DTSTART:20260308T070000
END:DAYLIGHT
BEGIN:STANDARD
TZOFFSETFROM:-0400
TZOFFSETTO:-0500
TZNAME:EST
DTSTART:20261101T060000
END:STANDARD
BEGIN:DAYLIGHT
TZOFFSETFROM:-0500
TZOFFSETTO:-0400
TZNAME:EDT
DTSTART:20270314T070000
END:DAYLIGHT
BEGIN:STANDARD
TZOFFSETFROM:-0400
TZOFFSETTO:-0500
TZNAME:EST
DTSTART:20271107T060000
END:STANDARD
END:VTIMEZONE
BEGIN:VEVENT
DTSTART;TZID=America/New_York:20260801T180000
DTEND;TZID=America/New_York:20260801T210000
DTSTAMP:20260424T145641
CREATED:20260306T004704Z
LAST-MODIFIED:20260317T030316Z
UID:10000288-1785607200-1785618000@northwaybrewingco.com
SUMMARY:Live Music : Glenn Rocks Band
DESCRIPTION:
URL:https://northwaybrewingco.com/event/live-music-glenn-rocks-band/
CATEGORIES:Cooperstown
END:VEVENT
BEGIN:VEVENT
DTSTART;TZID=America/New_York:20260805T180000
DTEND;TZID=America/New_York:20260805T210000
DTSTAMP:20260424T145641
CREATED:20260306T004705Z
LAST-MODIFIED:20260317T030316Z
UID:10000289-1785952800-1785963600@northwaybrewingco.com
SUMMARY:Live Music : Highway 61
DESCRIPTION:
URL:https://northwaybrewingco.com/event/live-music-highway-61-2/
CATEGORIES:Cooperstown
END:VEVENT
BEGIN:VEVENT
DTSTART;TZID=America/New_York:20260806T190000
DTEND;TZID=America/New_York:20260806T210000
DTSTAMP:20260424T145641
CREATED:20250820T183741Z
LAST-MODIFIED:20260424T100349Z
UID:10000058-1786042800-1786050000@northwaybrewingco.com
SUMMARY:Trivia Night
DESCRIPTION:
URL:https://northwaybrewingco.com/event/trivia-night-51/
CATEGORIES:Queensbury
END:VEVENT
BEGIN:VEVENT
DTSTART;TZID=America/New_York:20260808T180000
DTEND;TZID=America/New_York:20260808T210000
DTSTAMP:20260424T145641
CREATED:20260306T004705Z
LAST-MODIFIED:20260317T030316Z
UID:10000290-1786212000-1786222800@northwaybrewingco.com
SUMMARY:Live Music : The Nate Gross Band
DESCRIPTION:
URL:https://northwaybrewingco.com/event/live-music-the-nate-gross-band-2/
CATEGORIES:Cooperstown
END:VEVENT
BEGIN:VEVENT
DTSTART;TZID=America/New_York:20260812T180000
DTEND;TZID=America/New_York:20260812T210000
DTSTAMP:20260424T145641
CREATED:20260306T004705Z
LAST-MODIFIED:20260317T030316Z
UID:10000291-1786557600-1786568400@northwaybrewingco.com
SUMMARY:Live Music : Red Wagon
DESCRIPTION:
URL:https://northwaybrewingco.com/event/live-music-red-wagon-3/
CATEGORIES:Cooperstown
END:VEVENT
BEGIN:VEVENT
DTSTART;TZID=America/New_York:20260813T190000
DTEND;TZID=America/New_York:20260813T210000
DTSTAMP:20260424T145641
CREATED:20250820T183742Z
LAST-MODIFIED:20260424T100349Z
UID:10000059-1786647600-1786654800@northwaybrewingco.com
SUMMARY:Trivia Night
DESCRIPTION:
URL:https://northwaybrewingco.com/event/trivia-night-52/
CATEGORIES:Queensbury
END:VEVENT
BEGIN:VEVENT
DTSTART;TZID=America/New_York:20260815T180000
DTEND;TZID=America/New_York:20260815T210000
DTSTAMP:20260424T145641
CREATED:20260306T004706Z
LAST-MODIFIED:20260317T030317Z
UID:10000292-1786816800-1786827600@northwaybrewingco.com
SUMMARY:Live Music : Keystone Kahns
DESCRIPTION:
URL:https://northwaybrewingco.com/event/live-music-keystone-kahns-3/
CATEGORIES:Cooperstown
END:VEVENT
BEGIN:VEVENT
DTSTART;TZID=America/New_York:20260819T180000
DTEND;TZID=America/New_York:20260819T210000
DTSTAMP:20260424T145641
CREATED:20260306T004706Z
LAST-MODIFIED:20260317T030317Z
UID:10000293-1787162400-1787173200@northwaybrewingco.com
SUMMARY:Live Music : Riptide
DESCRIPTION:
URL:https://northwaybrewingco.com/event/live-music-riptide/
CATEGORIES:Cooperstown
END:VEVENT
BEGIN:VEVENT
DTSTART;TZID=America/New_York:20260820T190000
DTEND;TZID=America/New_York:20260820T210000
DTSTAMP:20260424T145641
CREATED:20250820T183742Z
LAST-MODIFIED:20260424T100349Z
UID:10000060-1787252400-1787259600@northwaybrewingco.com
SUMMARY:Trivia Night
DESCRIPTION:
URL:https://northwaybrewingco.com/event/trivia-night-53/
CATEGORIES:Queensbury
END:VEVENT
BEGIN:VEVENT
DTSTART;TZID=America/New_York:20260822T180000
DTEND;TZID=America/New_York:20260822T210000
DTSTAMP:20260424T145641
CREATED:20260306T004706Z
LAST-MODIFIED:20260317T030317Z
UID:10000294-1787421600-1787432400@northwaybrewingco.com
SUMMARY:Live Music : Jason Wicks Band
DESCRIPTION:
URL:https://northwaybrewingco.com/event/live-music-jason-wicks-band/
CATEGORIES:Cooperstown
END:VEVENT
BEGIN:VEVENT
DTSTART;TZID=America/New_York:20260827T190000
DTEND;TZID=America/New_York:20260827T210000
DTSTAMP:20260424T145641
CREATED:20250820T183742Z
LAST-MODIFIED:20260424T100349Z
UID:10000061-1787857200-1787864400@northwaybrewingco.com
SUMMARY:Trivia Night
DESCRIPTION:
URL:https://northwaybrewingco.com/event/trivia-night-54/
CATEGORIES:Queensbury
END:VEVENT
BEGIN:VEVENT
DTSTART;TZID=America/New_York:20260829T180000
DTEND;TZID=America/New_York:20260829T210000
DTSTAMP:20260424T145641
CREATED:20260306T004707Z
LAST-MODIFIED:20260317T030318Z
UID:10000295-1788026400-1788037200@northwaybrewingco.com
SUMMARY:Live Music : Grateful Upstate Toodeloo
DESCRIPTION:
URL:https://northwaybrewingco.com/event/live-music-grateful-upstate-toodeloo-4/
CATEGORIES:Cooperstown
END:VEVENT
END:VCALENDAR