BEGIN:VCALENDAR
VERSION:2.0
PRODID:-//Northway Brewing Co. - ECPv6.15.13//NONSGML v1.0//EN
CALSCALE:GREGORIAN
METHOD:PUBLISH
X-ORIGINAL-URL:https://northwaybrewingco.com
X-WR-CALDESC:Events for Northway Brewing Co.
REFRESH-INTERVAL;VALUE=DURATION:PT1H
X-Robots-Tag:noindex
X-PUBLISHED-TTL:PT1H
BEGIN:VTIMEZONE
TZID:America/New_York
BEGIN:DAYLIGHT
TZOFFSETFROM:-0500
TZOFFSETTO:-0400
TZNAME:EDT
DTSTART:20240310T070000
END:DAYLIGHT
BEGIN:STANDARD
TZOFFSETFROM:-0400
TZOFFSETTO:-0500
TZNAME:EST
DTSTART:20241103T060000
END:STANDARD
BEGIN:DAYLIGHT
TZOFFSETFROM:-0500
TZOFFSETTO:-0400
TZNAME:EDT
DTSTART:20250309T070000
END:DAYLIGHT
BEGIN:STANDARD
TZOFFSETFROM:-0400
TZOFFSETTO:-0500
TZNAME:EST
DTSTART:20251102T060000
END:STANDARD
BEGIN:DAYLIGHT
TZOFFSETFROM:-0500
TZOFFSETTO:-0400
TZNAME:EDT
DTSTART:20260308T070000
END:DAYLIGHT
BEGIN:STANDARD
TZOFFSETFROM:-0400
TZOFFSETTO:-0500
TZNAME:EST
DTSTART:20261101T060000
END:STANDARD
END:VTIMEZONE
BEGIN:VEVENT
DTSTART;TZID=America/New_York:20251108T140000
DTEND;TZID=America/New_York:20251108T200000
DTSTAMP:20260422T194033
CREATED:20250820T183736Z
LAST-MODIFIED:20251109T001702Z
UID:10000019-1762610400-1762632000@northwaybrewingco.com
SUMMARY:BURLYFEST..Music: Caity Gallagher 2:30-5:30
DESCRIPTION:Axe throwing\, Live Music\, Oysters\, Cocktail Specials..\nMr. Burly Beard contest!
URL:https://northwaybrewingco.com/event/burly-brewfest/
LOCATION:Northway Brewing Co
CATEGORIES:Queensbury
END:VEVENT
END:VCALENDAR